BEGIN:VCALENDAR
VERSION:2.0
PRODID:-//Rusfri Oppvekst - ECPv6.15.20//NONSGML v1.0//EN
CALSCALE:GREGORIAN
METHOD:PUBLISH
X-ORIGINAL-URL:https://rusfrioppvekst.no
X-WR-CALDESC:Events for Rusfri Oppvekst
REFRESH-INTERVAL;VALUE=DURATION:PT1H
X-Robots-Tag:noindex
X-PUBLISHED-TTL:PT1H
BEGIN:VTIMEZONE
TZID:Europe/Helsinki
BEGIN:DAYLIGHT
TZOFFSETFROM:+0200
TZOFFSETTO:+0300
TZNAME:EEST
DTSTART:20230326T010000
END:DAYLIGHT
BEGIN:STANDARD
TZOFFSETFROM:+0300
TZOFFSETTO:+0200
TZNAME:EET
DTSTART:20231029T010000
END:STANDARD
BEGIN:DAYLIGHT
TZOFFSETFROM:+0200
TZOFFSETTO:+0300
TZNAME:EEST
DTSTART:20240331T010000
END:DAYLIGHT
BEGIN:STANDARD
TZOFFSETFROM:+0300
TZOFFSETTO:+0200
TZNAME:EET
DTSTART:20241027T010000
END:STANDARD
BEGIN:DAYLIGHT
TZOFFSETFROM:+0200
TZOFFSETTO:+0300
TZNAME:EEST
DTSTART:20250330T010000
END:DAYLIGHT
BEGIN:STANDARD
TZOFFSETFROM:+0300
TZOFFSETTO:+0200
TZNAME:EET
DTSTART:20251026T010000
END:STANDARD
END:VTIMEZONE
BEGIN:VEVENT
DTSTART;TZID=Europe/Helsinki:20240325T080000
DTEND;TZID=Europe/Helsinki:20240401T160000
DTSTAMP:20260422T224155
CREATED:20240322T153648Z
LAST-MODIFIED:20240322T153648Z
UID:4399-1711353600-1711987200@rusfrioppvekst.no
SUMMARY:PÅSKESTENGT KONTOR
DESCRIPTION:Kontoret holder stengt i påsken.\nVi ønsker alle en riktig god påske!\n 
URL:https://rusfrioppvekst.no/kalendar/paskestengt-kontor/
ATTACH;FMTTYPE=image/jpeg:https://rusfrioppvekst.no/wp-content/uploads/2024/03/Paske_2024_N.jpg
END:VEVENT
END:VCALENDAR