BEGIN:VCALENDAR
VERSION:2.0
PRODID:-//Rusfri Oppvekst - ECPv6.15.20//NONSGML v1.0//EN
CALSCALE:GREGORIAN
METHOD:PUBLISH
X-ORIGINAL-URL:https://rusfrioppvekst.no
X-WR-CALDESC:Events for Rusfri Oppvekst
REFRESH-INTERVAL;VALUE=DURATION:PT1H
X-Robots-Tag:noindex
X-PUBLISHED-TTL:PT1H
BEGIN:VTIMEZONE
TZID:Europe/Helsinki
BEGIN:DAYLIGHT
TZOFFSETFROM:+0200
TZOFFSETTO:+0300
TZNAME:EEST
DTSTART:20230326T010000
END:DAYLIGHT
BEGIN:STANDARD
TZOFFSETFROM:+0300
TZOFFSETTO:+0200
TZNAME:EET
DTSTART:20231029T010000
END:STANDARD
BEGIN:DAYLIGHT
TZOFFSETFROM:+0200
TZOFFSETTO:+0300
TZNAME:EEST
DTSTART:20240331T010000
END:DAYLIGHT
BEGIN:STANDARD
TZOFFSETFROM:+0300
TZOFFSETTO:+0200
TZNAME:EET
DTSTART:20241027T010000
END:STANDARD
BEGIN:DAYLIGHT
TZOFFSETFROM:+0200
TZOFFSETTO:+0300
TZNAME:EEST
DTSTART:20250330T010000
END:DAYLIGHT
BEGIN:STANDARD
TZOFFSETFROM:+0300
TZOFFSETTO:+0200
TZNAME:EET
DTSTART:20251026T010000
END:STANDARD
END:VTIMEZONE
BEGIN:VEVENT
DTSTART;TZID=Europe/Helsinki:20240503T170000
DTEND;TZID=Europe/Helsinki:20240505T130000
DTSTAMP:20260422T235849
CREATED:20240201T091535Z
LAST-MODIFIED:20240201T091535Z
UID:3322-1714755600-1714914000@rusfrioppvekst.no
SUMMARY:NORDISK BÆREKRAFTSAKADEMI I STOCKHOLM
DESCRIPTION:Nordisk bærekraftakademi er et prosjekt med mål om å styrke kompetanse og samarbeid innenfor den nordiske avholdsbevegelsen rundt spørsmålet om alkohol og bærekraft. \nRusfri Oppvekst vil gjerne invitere et par av sine medlemmer til arrangementet som vil finne sted i vakre Stockholm 3. – 5. mai. Temaet for helgen er «alkoholens skader på mennesker og miljø». \nI løpet av helgen vil deltakerne utdype sin forståelse av virkningen av alkohol\, både på individuelt og globalt nivå. Vi vil spesielt fokusere på hvordan alkohol påvirker de globale bærekraftsmålene negativt\, med ekstra vekt på perspektiver knyttet til barns rettigheter\, likestilling og miljø. \nVi ser frem til tre dager med interessante foredrag\, engasjerende samtaler\, innsiktsfulle diskusjoner og muligheten til å utdype kunnskapen om alkohol og bærekraft. \nMed cirka 30 deltakere fra Norge\, Sverige\, Island og Finland vil helgen tilby en spennende mulighet for erfaringsutveksling og nettverksbygging. \nProsjektet er medfinansiert av Nordisk Kulturkontakt\, og er organisert av Movendi International i samarbeid med Rusfri Oppvekst og IOGT i Norge\, IOGT-NTO og Junis i Sverige\, IOGT Island og den finske organisasjonen Helse og Trafikk. \nHvis dette høres interessant ut for deg\, vennligst registrer din interesse ved å klikke på følgende lenke: https://forms.office.com/e/ETXHrwaGV0 \nPåmeldingsfrist: lørdag\, 17. februar!\nReise og opphold dekkes av prosjektet\, og egenandel dekkes av Rusfri Oppvekst. Det er begrenset med plasser\, og utvelgelse av hvem som får reise fra Rusfri Oppvekst vil gjøres av den nordiske styringsgruppen i mars. \nVi ser frem til å dele denne inspirerende opplevelsen med deg!
URL:https://rusfrioppvekst.no/kalendar/nordisk-baerekraftsakademi-i-stockholm/
LOCATION:Stockholm\, Sweden
CATEGORIES:Konferanse
ATTACH;FMTTYPE=image/jpeg:https://rusfrioppvekst.no/wp-content/uploads/2024/02/240201_FB_Movendi.jpg
END:VEVENT
END:VCALENDAR