BEGIN:VCALENDAR
VERSION:2.0
PRODID:-//Rusfri Oppvekst - ECPv6.15.20//NONSGML v1.0//EN
CALSCALE:GREGORIAN
METHOD:PUBLISH
X-WR-CALNAME:Rusfri Oppvekst
X-ORIGINAL-URL:https://rusfrioppvekst.no
X-WR-CALDESC:Events for Rusfri Oppvekst
REFRESH-INTERVAL;VALUE=DURATION:PT1H
X-Robots-Tag:noindex
X-PUBLISHED-TTL:PT1H
BEGIN:VTIMEZONE
TZID:Europe/Helsinki
BEGIN:DAYLIGHT
TZOFFSETFROM:+0200
TZOFFSETTO:+0300
TZNAME:EEST
DTSTART:20230326T010000
END:DAYLIGHT
BEGIN:STANDARD
TZOFFSETFROM:+0300
TZOFFSETTO:+0200
TZNAME:EET
DTSTART:20231029T010000
END:STANDARD
BEGIN:DAYLIGHT
TZOFFSETFROM:+0200
TZOFFSETTO:+0300
TZNAME:EEST
DTSTART:20240331T010000
END:DAYLIGHT
BEGIN:STANDARD
TZOFFSETFROM:+0300
TZOFFSETTO:+0200
TZNAME:EET
DTSTART:20241027T010000
END:STANDARD
BEGIN:DAYLIGHT
TZOFFSETFROM:+0200
TZOFFSETTO:+0300
TZNAME:EEST
DTSTART:20250330T010000
END:DAYLIGHT
BEGIN:STANDARD
TZOFFSETFROM:+0300
TZOFFSETTO:+0200
TZNAME:EET
DTSTART:20251026T010000
END:STANDARD
END:VTIMEZONE
BEGIN:VEVENT
DTSTART;TZID=Europe/Helsinki:20240609T110000
DTEND;TZID=Europe/Helsinki:20240609T150000
DTSTAMP:20260423T105548
CREATED:20240419T191635Z
LAST-MODIFIED:20240419T192202Z
UID:5178-1717930800-1717945200@rusfrioppvekst.no
SUMMARY:Busstur gjennom det skogfinske landskapet
DESCRIPTION:Rusfri Oppvekst Glåmdal Innbyr i samarbeid med FMR Glåmdal og Edru Livsstil Glåmdal til en\n4 times omvisingstur med buss i det Skogfinske kulturlandskapet.\nTuren blir med omviser. Kaffepause underveis. \nFrammøte i Svullrya ved Finnskogen Kro og Motell. Bussen har avgang kl. 11. \nReiserute:\nVi skal innom Gottlundsteinen – langs Sjøveien til ei stue med røykovn – opp Skårbergveien til Lauvhaugen – gjennom tradisjonelle skogfinske boplasser – og vi stopper ved minneplata på sørsida av Røgden.\nDeltakerne må sjøl ta seg fram til Svullrya. Vi tenker oss at turen blir avslutta slik at deltakerne kan besøke Det skogfinske museet. \nPåmelding innen 30.april til Terje Vindenes:\nTlf. 902 07 875 eller e-post: ter-vind@online.no \nPris per deltaker: kr 250 som sendes til konto 1870.24.3834.
URL:https://rusfrioppvekst.no/kalendar/busstur-gjennom-det-skogfinske-landskapet/
CATEGORIES:Lokallag
ATTACH;FMTTYPE=image/png:https://rusfrioppvekst.no/wp-content/uploads/2024/04/buss_bus-159191_1280.png
END:VEVENT
END:VCALENDAR