BEGIN:VCALENDAR
VERSION:2.0
PRODID:-//Rusfri Oppvekst - ECPv6.15.20//NONSGML v1.0//EN
CALSCALE:GREGORIAN
METHOD:PUBLISH
X-WR-CALNAME:Rusfri Oppvekst
X-ORIGINAL-URL:https://rusfrioppvekst.no
X-WR-CALDESC:Events for Rusfri Oppvekst
REFRESH-INTERVAL;VALUE=DURATION:PT1H
X-Robots-Tag:noindex
X-PUBLISHED-TTL:PT1H
BEGIN:VTIMEZONE
TZID:Europe/Helsinki
BEGIN:DAYLIGHT
TZOFFSETFROM:+0200
TZOFFSETTO:+0300
TZNAME:EEST
DTSTART:20230326T010000
END:DAYLIGHT
BEGIN:STANDARD
TZOFFSETFROM:+0300
TZOFFSETTO:+0200
TZNAME:EET
DTSTART:20231029T010000
END:STANDARD
BEGIN:DAYLIGHT
TZOFFSETFROM:+0200
TZOFFSETTO:+0300
TZNAME:EEST
DTSTART:20240331T010000
END:DAYLIGHT
BEGIN:STANDARD
TZOFFSETFROM:+0300
TZOFFSETTO:+0200
TZNAME:EET
DTSTART:20241027T010000
END:STANDARD
BEGIN:DAYLIGHT
TZOFFSETFROM:+0200
TZOFFSETTO:+0300
TZNAME:EEST
DTSTART:20250330T010000
END:DAYLIGHT
BEGIN:STANDARD
TZOFFSETFROM:+0300
TZOFFSETTO:+0200
TZNAME:EET
DTSTART:20251026T010000
END:STANDARD
END:VTIMEZONE
BEGIN:VEVENT
DTSTART;TZID=Europe/Helsinki:20240924T180000
DTEND;TZID=Europe/Helsinki:20240924T200000
DTSTAMP:20260423T143647
CREATED:20240906T113537Z
LAST-MODIFIED:20240906T113537Z
UID:6060-1727200800-1727208000@rusfrioppvekst.no
SUMMARY:Ruspolitisk møte i Bergen i regi av vår samarbeidspartner Ruspolitisk Råd Vestland
DESCRIPTION:Rusfri Oppvekst samarbeider og deler kontor med Ruspolitisk Råd Vestland. \nTirsdag 24. september kl.18:00 inviterer Ruspolitisk Råd Vestland til politisk møte hvor leder for skjenkekontoret i Bergen\, Terje Gjertsen kommer for å fortelle om ruspolitiske planer og skjenkepolitikken i Bergen kommune.\nVi oppfordrer derfor medlemmer i Rusfri Oppvekst Bergen til å delta denne kvelden. \nPåmelding til 90 04 40 57 eller e-post: ruspolitiskradvestland@gmail.com
URL:https://rusfrioppvekst.no/kalendar/ruspolitisk-mote-i-bergen-i-regi-av-var-samarbeidspartner-ruspolitisk-rad-vestland/
LOCATION:Terminus hotell\, Zander Kaaes gate 6\, Bergen
CATEGORIES:Politikk
ATTACH;FMTTYPE=image/png:https://rusfrioppvekst.no/wp-content/uploads/2023/08/Foreldremote_Pixabay_teaching-311356_1280.png
END:VEVENT
END:VCALENDAR