BEGIN:VCALENDAR
VERSION:2.0
PRODID:-//Rusfri Oppvekst - ECPv6.15.20//NONSGML v1.0//EN
CALSCALE:GREGORIAN
METHOD:PUBLISH
X-WR-CALNAME:Rusfri Oppvekst
X-ORIGINAL-URL:https://rusfrioppvekst.no
X-WR-CALDESC:Events for Rusfri Oppvekst
REFRESH-INTERVAL;VALUE=DURATION:PT1H
X-Robots-Tag:noindex
X-PUBLISHED-TTL:PT1H
BEGIN:VTIMEZONE
TZID:Europe/Helsinki
BEGIN:DAYLIGHT
TZOFFSETFROM:+0200
TZOFFSETTO:+0300
TZNAME:EEST
DTSTART:20230326T010000
END:DAYLIGHT
BEGIN:STANDARD
TZOFFSETFROM:+0300
TZOFFSETTO:+0200
TZNAME:EET
DTSTART:20231029T010000
END:STANDARD
BEGIN:DAYLIGHT
TZOFFSETFROM:+0200
TZOFFSETTO:+0300
TZNAME:EEST
DTSTART:20240331T010000
END:DAYLIGHT
BEGIN:STANDARD
TZOFFSETFROM:+0300
TZOFFSETTO:+0200
TZNAME:EET
DTSTART:20241027T010000
END:STANDARD
BEGIN:DAYLIGHT
TZOFFSETFROM:+0200
TZOFFSETTO:+0300
TZNAME:EEST
DTSTART:20250330T010000
END:DAYLIGHT
BEGIN:STANDARD
TZOFFSETFROM:+0300
TZOFFSETTO:+0200
TZNAME:EET
DTSTART:20251026T010000
END:STANDARD
END:VTIMEZONE
BEGIN:VEVENT
DTSTART;TZID=Europe/Helsinki:20240926T113000
DTEND;TZID=Europe/Helsinki:20240926T121500
DTSTAMP:20260423T143647
CREATED:20240924T135819Z
LAST-MODIFIED:20240925T093441Z
UID:6129-1727350200-1727352900@rusfrioppvekst.no
SUMMARY:LUNSJFOREDRAG FOR STUDENTER
DESCRIPTION:Torsdag\, 26. September Inviterer vi til lunsjforedrag på NLA campus Kalfaret kl. 11:30 – 12:15.\nÅrrangementet er i samarbeid med lokallaget Rusfri Oppvekst Bergen. \nHeidi Wittrup Djup foredrar om psykisk helse blant studenter.\nHeidi Wittrup Djup er psykologspesialist med spesialistutdanning innen samfunns- og allmennpsykologi. Hun har etterutdanning som barnefaglig sakkyndig\, samt innenfor traumebehandlingsmetoden EMDR og behandling.
URL:https://rusfrioppvekst.no/kalendar/lunsjforedrag-for-studenter/
LOCATION:NLA Kalfaret\, Kalfarveien 31\, Bergen\, 5018
CATEGORIES:Seminar
ATTACH;FMTTYPE=image/jpeg:https://rusfrioppvekst.no/wp-content/uploads/2024/09/Student_PIXABAY_man-4589008_1280.jpg
END:VEVENT
END:VCALENDAR