BEGIN:VCALENDAR
VERSION:2.0
PRODID:-//Rusfri Oppvekst - ECPv6.15.20//NONSGML v1.0//EN
CALSCALE:GREGORIAN
METHOD:PUBLISH
X-WR-CALNAME:Rusfri Oppvekst
X-ORIGINAL-URL:https://rusfrioppvekst.no
X-WR-CALDESC:Events for Rusfri Oppvekst
REFRESH-INTERVAL;VALUE=DURATION:PT1H
X-Robots-Tag:noindex
X-PUBLISHED-TTL:PT1H
BEGIN:VTIMEZONE
TZID:Europe/Helsinki
BEGIN:DAYLIGHT
TZOFFSETFROM:+0200
TZOFFSETTO:+0300
TZNAME:EEST
DTSTART:20250330T010000
END:DAYLIGHT
BEGIN:STANDARD
TZOFFSETFROM:+0300
TZOFFSETTO:+0200
TZNAME:EET
DTSTART:20251026T010000
END:STANDARD
BEGIN:DAYLIGHT
TZOFFSETFROM:+0200
TZOFFSETTO:+0300
TZNAME:EEST
DTSTART:20260329T010000
END:DAYLIGHT
BEGIN:STANDARD
TZOFFSETFROM:+0300
TZOFFSETTO:+0200
TZNAME:EET
DTSTART:20261025T010000
END:STANDARD
BEGIN:DAYLIGHT
TZOFFSETFROM:+0200
TZOFFSETTO:+0300
TZNAME:EEST
DTSTART:20270328T010000
END:DAYLIGHT
BEGIN:STANDARD
TZOFFSETFROM:+0300
TZOFFSETTO:+0200
TZNAME:EET
DTSTART:20271031T010000
END:STANDARD
END:VTIMEZONE
BEGIN:VEVENT
DTSTART;TZID=Europe/Helsinki:20260408T140000
DTEND;TZID=Europe/Helsinki:20260408T153000
DTSTAMP:20260423T044057
CREATED:20260225T232926Z
LAST-MODIFIED:20260307T120716Z
UID:18723-1775656800-1775662200@rusfrioppvekst.no
SUMMARY:ÅRSMØTE I RO KARMØY
DESCRIPTION:Styret i RO Karmøy innkaller til årsmøte onsdag 8. april kl. 14:00 – 15:30 i Kopervik kulturhus i Skolegaten 9.\nHvis medlemmer i laget har saker\, kan dette sendes på e-post til styreleder Møyfrid Ferking Birkeland i forkant av møtet. \nStyret ønsker at flere medlemmer som ønsker å engasjere seg\, melder seg til styreverv. Det er trivelige styremøter og arbeidet i styret er viktig for lagets aktiviteter og framdrift. Ta kontakt med styreleder om du er interessert.
URL:https://rusfrioppvekst.no/kalendar/arsmote-i-ro-karmoy/
LOCATION:Kopervik kulturhus\, Skolegaten 9\, Kopervik\, 4250
CATEGORIES:Årsmøte,Lokallag
ATTACH;FMTTYPE=image/png:https://rusfrioppvekst.no/wp-content/uploads/2023/08/Foreldremote_Pixabay_teaching-311356_1280.png
END:VEVENT
BEGIN:VEVENT
DTSTART;TZID=Europe/Helsinki:20260413T103000
DTEND;TZID=Europe/Helsinki:20260413T113000
DTSTAMP:20260423T044057
CREATED:20260408T114151Z
LAST-MODIFIED:20260408T114243Z
UID:18828-1776076200-1776079800@rusfrioppvekst.no
SUMMARY:SEMINAR om  "Beruselsesdrikking – akutte risikoer og langvarige effekter"
DESCRIPTION:Mandag 13. april får Actis besøk av Sven Andreasson\, forsker og forfatter av rapporten “Beruselsesdrikking – akutte risikoer og langvarige effekter”.\nI foredraget kommer Andréasson blant annet inn på: \n\nHva er egentlig beruselsesdrikking?\nHvor vanlig er det?\nAkutte konsekvenser som ulykker\, vold og forgiftning.\nLangsiktige konsekvenser for helse og sykdom.\nHvorfor beruselsesdrikking ofte undervurderes.\nHvilke tiltak som virker.\n\nForedraget er gratis og kun tilgjengelig for Actis sine medlemmer.\nArrangementer holdes i Torggata 1\, 5. etg. Det er også mulig å delta digitalt.\nLes mer og meld deg på her: https://actis.no/arrangementer/foredrag-om-beruselsesdrikking
URL:https://rusfrioppvekst.no/kalendar/18828/
LOCATION:Torggata 1\, Oslo\, Torggata 1\, Oslo
CATEGORIES:Seminar
ATTACH;FMTTYPE=image/png:https://rusfrioppvekst.no/wp-content/uploads/2026/04/260408_Actis_Bilde.png
END:VEVENT
BEGIN:VEVENT
DTSTART;TZID=Europe/Helsinki:20260414T153000
DTEND;TZID=Europe/Helsinki:20260414T170000
DTSTAMP:20260423T044057
CREATED:20260409T085943Z
LAST-MODIFIED:20260413T181819Z
UID:18832-1776180600-1776186000@rusfrioppvekst.no
SUMMARY:ÅRSMØTE RO OSTERØY
DESCRIPTION:Styret i RO Osterøy innkaller til årsmøte tirsdag 14. april.\nHvis medlemmer i laget har saker\, kan dette sendes på e-post til styreleder Tone Mosevoll i forkant av møtet.
URL:https://rusfrioppvekst.no/kalendar/arsmote-ro-osteroy/
LOCATION:DUO Osterøy
CATEGORIES:Årsmøte,Lokallag
ATTACH;FMTTYPE=image/png:https://rusfrioppvekst.no/wp-content/uploads/2023/08/Foreldremote_Pixabay_teaching-311356_1280.png
END:VEVENT
BEGIN:VEVENT
DTSTART;VALUE=DATE:20260417
DTEND;VALUE=DATE:20260420
DTSTAMP:20260423T044057
CREATED:20251110T110640Z
LAST-MODIFIED:20251110T110640Z
UID:18591-1776384000-1776643199@rusfrioppvekst.no
SUMMARY:LANDSSTYREMØTE
DESCRIPTION:Landsstyret samles til fysisk styremøte i Trysil. \nEventuelle saker som lokallag e.a. ønsker at styret skal behandle\, meldes til daglig leder på e-post
URL:https://rusfrioppvekst.no/kalendar/landsstyremote/
LOCATION:Trysil\, Elvdalsvegen 5\, Nybergsund\, 2422
CATEGORIES:Landsstyremøte
ATTACH;FMTTYPE=image/jpeg:https://rusfrioppvekst.no/wp-content/uploads/2024/10/Styremote-scaled.jpg
END:VEVENT
BEGIN:VEVENT
DTSTART;TZID=Europe/Helsinki:20260427T180000
DTEND;TZID=Europe/Helsinki:20260427T210000
DTSTAMP:20260423T044057
CREATED:20260318T091705Z
LAST-MODIFIED:20260407T195038Z
UID:18768-1777312800-1777323600@rusfrioppvekst.no
SUMMARY:FOREDRAG MED ADIL KHAN
DESCRIPTION:ET BRUTALT ÆRLIG FOREDRAG OM PSYKISK HELSE. \nDørene åpnes kl. 17:30. Foredraget begynner kl. 18:00.\nDet blir enkel servering i en pause\, og god tid til å prate med Adil etter foredraget som slutter kl.20:30. \nArrangementet passer fra 16 år og oppover. \nFri entré! Vel møtt! NB! PÅMELDING pga. servering VIA SMS TIL TLF. 934 44 260 \nArrangør: Rusfri Oppvekst Oslo og omegn i samarbeid med Edru Livsstil Oslo +\, FMR-lagene i Oslo og Ruspolitisk fellesråd Østlandet. \n———————————————————————————– \nAdil Khan er for mange kjent som vinner av den første sesongen av ‘So You Think You Can Dance’ på TV Norge\, dommer i “Norske Talenter” på TV2 og programleder for ‘Adils Hemmelige Dansere’ på NRK. Han har stått på de største teaterscenene i Norge og har mottatt en rekke pris-nominasjoner for roller i TV\, film og teater. Talentet og formidlingsevnen hans har gjort han til en kritikerrost skikkelse i kulturbransjen. Hans siste prosjekt på skjermen var ‘Adils Hemmelige Dansere’ på NRK. Begge sesonger ble nominert til Gullruten og siste sesong endte opp i Gullrekka. \nUavhengig av en fremadstormende karriere forsvant Adil fra rampelyset. Han tok tidlig sterk avstand fra kjendiskultur og kjente på behovet for å gå dypere til verks i sinnet sitt for å hjelpe flere mennesker som har slitt med psyken. De siste 7 årene har han holdt foredrag på fulltid\, fire av disse som fast foredragsholder for organisasjonen Mental Helse. Siden 2013 har Adil holdt rundt 400 foredrag for ungdom\, lærere og fagpersoner i helse-sektoren. Dette gjør han til en av de mest populære foredragsholderne innenfor psykisk helse. \nForedraget “Motstand = Styrke” har blitt omtalt som oppvekkende\, usminket\, brutalt\, samfunnskritisk og ærlig. Adil snakker om hvordan hver enkelt av oss kan få kontakt med vårt sinn og den indre dialogen\, som ofte kan jobbe imot oss. Dagens samfunn består av en sterk forventnings- og prestasjonskultur der det hele tiden er et stort jag etter suksess og bekreftelse. Adil’s imponerende CV har gitt store inntrykk av denne suksessen\, men den indre tomheten Adil kjente hele livet er det han setter ord på i dag. \nHan belyser ensomheten\, ekskluderingen og den dype depresjonen han gikk igjennom helt siden ungdomsårene. Det er et foredrag som skildrer en oppvekst med mobbing\, rasisme\, utenforskap\, trusler\, vold\, sosial angst og ekstreme forventninger fra både foreldre\, skole og miljø. Dette ga Adil en tung bagasje\, noe som ledet til store mengder selvhat og til slutt suicidale tendenser. Han forteller om veien ut av mørket. Eierskapet til eget liv har vært nøkkelen hans\, det krevde en god dose selvinnsikt\, selvkritikk og intenst arbeid med psykolog. \nAdil har en fantastisk evne til å ufarliggjøre tabubelagte temaer og stigma rundt psykisk helse slik at mennesker får et språk på vanskelige tanker og følelser.
URL:https://rusfrioppvekst.no/kalendar/foredrag-med-adil-khan/
LOCATION:Torggata 1\, Torggata 1\, Oslo
CATEGORIES:Lokallag,Seminar
ATTACH;FMTTYPE=image/png:https://rusfrioppvekst.no/wp-content/uploads/2026/04/260427_Adil-khan_Foredrag_Plakat_v3.png
END:VEVENT
BEGIN:VEVENT
DTSTART;TZID=Europe/Helsinki:20260520T083000
DTEND;TZID=Europe/Helsinki:20260520T143000
DTSTAMP:20260423T044057
CREATED:20260417T100413Z
LAST-MODIFIED:20260417T102523Z
UID:18841-1779265800-1779287400@rusfrioppvekst.no
SUMMARY:FAGKONFERANSE I KRISTIANSUND
DESCRIPTION:Onsdag\, 20.mai kl. 08:30 – 14:30 inviterer vi til fagkonferanse\, “Barn som pårørende”.\nSted: Thon hotell Kristiansund\, Fiskergata 12 \nGerd Helene Irgens er psykiatrisk sykepleier og jobber som seniorrådgiver og kst.seksjonsleder i avdeling for rusmedisin\, Helse Bergen. Hun har lang fartstid fra rusfeltet med klinisk arbeid rettet mot pasienter og pårørende. Barn som pårørende er et sentralt tema i hennes arbeid. \nSe plakaten her!
URL:https://rusfrioppvekst.no/kalendar/fagkonferanse-i-kristiansund/
CATEGORIES:Fagkonferanse
ATTACH;FMTTYPE=image/jpeg:https://rusfrioppvekst.no/wp-content/uploads/2025/02/Gerd-Helene-Irgens_6-scaled-e1743507516114.jpg
END:VEVENT
BEGIN:VEVENT
DTSTART;VALUE=DATE:20260529
DTEND;VALUE=DATE:20260601
DTSTAMP:20260423T044057
CREATED:20251105T132652Z
LAST-MODIFIED:20260312T102204Z
UID:18578-1780012800-1780271999@rusfrioppvekst.no
SUMMARY:LANDSMØTE 2026
DESCRIPTION:Vel møtt til landsmøte 2026. \nHvert lokallag er velkommen til å sende to representanter på organisasjonens regning. \nMer info finner du her!
URL:https://rusfrioppvekst.no/kalendar/landsmote-2026/
LOCATION:Åsane folkehøgskole\, Hylkje\, Vestland
CATEGORIES:Landsmøte
ATTACH;FMTTYPE=image/jpeg:https://rusfrioppvekst.no/wp-content/uploads/2024/02/Landsmote_2022_Tromso_Det-stemmes.jpg
END:VEVENT
BEGIN:VEVENT
DTSTART;TZID=Europe/Helsinki:20260608T083000
DTEND;TZID=Europe/Helsinki:20260608T143000
DTSTAMP:20260423T044057
CREATED:20260422T123057Z
LAST-MODIFIED:20260422T124736Z
UID:18851-1780907400-1780929000@rusfrioppvekst.no
SUMMARY:FAGKONFERANSE PÅ SANDNES
DESCRIPTION:Mandag\, 8.junikl. 08:30 – 14:30 inviterer vi til fagkonferanse\, “Barn som pårørende”.\nSted: GamlaVærket Gjæstgiveri og Tracteringssted\, Sandnes \nGerd Helene Irgens er psykiatrisk sykepleier og jobber som seniorrådgiver og kst.seksjonsleder i avdeling for rusmedisin\, Helse Bergen. Hun har lang fartstid fra rusfeltet med klinisk arbeid rettet mot pasienter og pårørende. Barn som pårørende er et sentralt tema i hennes arbeid. \nMer info kommer…
URL:https://rusfrioppvekst.no/kalendar/fagkonferanse-pa-sandnes/
LOCATION:GamlaVærket Gjæstgiveri og Tracteringssted\, St Olavs Gate 38\, Sandnes\, 4306
CATEGORIES:Fagkonferanse
ATTACH;FMTTYPE=image/jpeg:https://rusfrioppvekst.no/wp-content/uploads/2025/02/Gerd-Helene-Irgens_6-scaled-e1743507516114.jpg
END:VEVENT
BEGIN:VEVENT
DTSTART;TZID=Europe/Helsinki:20260811T090000
DTEND;TZID=Europe/Helsinki:20260811T150000
DTSTAMP:20260423T044057
CREATED:20251128T090422Z
LAST-MODIFIED:20251128T090422Z
UID:18627-1786438800-1786460400@rusfrioppvekst.no
SUMMARY:FAGKONFERANSE I ØYGARDEN KOMMUNE
DESCRIPTION:Øygarden kommune inviterer denne dagen til fagkonferanse for ansatte i kommunen.\nTema: “Barn\, psykisk helse og ufrivillig skolefravær” ved Kirsten H. Resaland. \nResaland er barne- og ungdomspsykolog og har jobbet med ungdom på ulike arenaer i over tyve år.\nHun er også forfatter. I 2020 gav hun ut ungdomsboken “Helt Ærlig om hvordan vi henger sammen” med legespesialist Astrid Nylander Almaas. Og i 2024 gav hun ut “Snakk til meg!” – en bok til voksne med konkrete innspill til hva som skaper trygghet i samtaler med ungdom. \nMer informasjon om sted kommer…
URL:https://rusfrioppvekst.no/kalendar/fagkonferanse-i-oygarden-kommune/
CATEGORIES:Fagkonferanse
ATTACH;FMTTYPE=image/jpeg:https://rusfrioppvekst.no/wp-content/uploads/2025/01/Kirsten-Resaland_2023_109706_KR_44z-1.jpg
END:VEVENT
BEGIN:VEVENT
DTSTART;VALUE=DATE:20261002
DTEND;VALUE=DATE:20261008
DTSTAMP:20260423T044057
CREATED:20260312T102738Z
LAST-MODIFIED:20260312T103130Z
UID:18758-1790899200-1791417599@rusfrioppvekst.no
SUMMARY:Verdenskongress
DESCRIPTION:Bli med på VERDENSKONGRESS til Slovenia i regi av Movendi International \nRusfri Oppvekst er medlem av det globale fellesskapet gjennom Movendi International.\n2. – 7. oktober inviteres medlemmer og engasjerte til den 71. verdenskongressen\, og du er velkommen til en samling for rusforebyggende arbeid som samler aktivister\, fagfolk og organisasjonsledere fra hele verden. \nMer info\, program\, priser og påmelding
URL:https://rusfrioppvekst.no/kalendar/verdenskongress/
LOCATION:Slovenia\, Slovenia
CATEGORIES:Kongress
ATTACH;FMTTYPE=image/png:https://rusfrioppvekst.no/wp-content/uploads/2026/03/261002_Movendi-I_Verdenskongress.png
END:VEVENT
BEGIN:VEVENT
DTSTART;VALUE=DATE:20261030
DTEND;VALUE=DATE:20261031
DTSTAMP:20260423T044057
CREATED:20251128T091826Z
LAST-MODIFIED:20251208T142006Z
UID:18629-1793318400-1793404799@rusfrioppvekst.no
SUMMARY:ØSTLANDSKE LÆRERSTEVNE: SEMINAR OG INFO-STANDS
DESCRIPTION:Under årets lærerstevne på Østlandet stiller Rusfri Oppvekst med både seminar og info-stands. \nSted: Kjenn skole og Lørenskog Hus i Lørenskog kommune. \nMer informasjon kommer…
URL:https://rusfrioppvekst.no/kalendar/ostlandske-laererstevne-seminar-og-info-stands/
LOCATION:Kjenn skole
CATEGORIES:Fagkonferanse,Seminar
ATTACH;FMTTYPE=image/jpeg:https://rusfrioppvekst.no/wp-content/uploads/2025/01/Kirsten-Resaland_2023_109706_KR_44z-1.jpg
END:VEVENT
BEGIN:VEVENT
DTSTART;VALUE=DATE:20261106
DTEND;VALUE=DATE:20261107
DTSTAMP:20260423T044057
CREATED:20251128T092203Z
LAST-MODIFIED:20251128T092437Z
UID:18633-1793923200-1794009599@rusfrioppvekst.no
SUMMARY:SØRLANDSKE LÆRERSTEVNE: SEMINAR OG INFO-STANDS
DESCRIPTION:Under årets lærerstevne på Sørlandske stiller Rusfri Oppvekst med både seminar og info-stands. \nMer informasjon om sted kommer…
URL:https://rusfrioppvekst.no/kalendar/sorlandske-laererstevne-seminar-og-info-stands/
LOCATION:Kristansand
CATEGORIES:Seminar,Stands
ATTACH;FMTTYPE=image/jpeg:https://rusfrioppvekst.no/wp-content/uploads/2024/12/Gerd-Helene-Irgens_5-e1733512346933.jpg
END:VEVENT
END:VCALENDAR