BEGIN:VCALENDAR
VERSION:2.0
PRODID:-//Rusfri Oppvekst - ECPv6.15.20//NONSGML v1.0//EN
CALSCALE:GREGORIAN
METHOD:PUBLISH
X-WR-CALNAME:Rusfri Oppvekst
X-ORIGINAL-URL:https://rusfrioppvekst.no
X-WR-CALDESC:Events for Rusfri Oppvekst
REFRESH-INTERVAL;VALUE=DURATION:PT1H
X-Robots-Tag:noindex
X-PUBLISHED-TTL:PT1H
BEGIN:VTIMEZONE
TZID:Europe/Helsinki
BEGIN:DAYLIGHT
TZOFFSETFROM:+0200
TZOFFSETTO:+0300
TZNAME:EEST
DTSTART:20220327T010000
END:DAYLIGHT
BEGIN:STANDARD
TZOFFSETFROM:+0300
TZOFFSETTO:+0200
TZNAME:EET
DTSTART:20221030T010000
END:STANDARD
BEGIN:DAYLIGHT
TZOFFSETFROM:+0200
TZOFFSETTO:+0300
TZNAME:EEST
DTSTART:20230326T010000
END:DAYLIGHT
BEGIN:STANDARD
TZOFFSETFROM:+0300
TZOFFSETTO:+0200
TZNAME:EET
DTSTART:20231029T010000
END:STANDARD
BEGIN:DAYLIGHT
TZOFFSETFROM:+0200
TZOFFSETTO:+0300
TZNAME:EEST
DTSTART:20240331T010000
END:DAYLIGHT
BEGIN:STANDARD
TZOFFSETFROM:+0300
TZOFFSETTO:+0200
TZNAME:EET
DTSTART:20241027T010000
END:STANDARD
END:VTIMEZONE
BEGIN:VEVENT
DTSTART;TZID=Europe/Helsinki:20230908T090000
DTEND;TZID=Europe/Helsinki:20230908T150000
DTSTAMP:20260423T135039
CREATED:20230502T125359Z
LAST-MODIFIED:20230817T075128Z
UID:1379-1694163600-1694185200@rusfrioppvekst.no
SUMMARY:FAGKONFERANSE OSTERØY
DESCRIPTION:Velkommen til fagkonferanse på Osterøy. \nPris: kr 750. Studentpris kr 300. Medlemmer gratis. \nMer info her: Konferanser | Rusfri Oppvekst
URL:https://rusfrioppvekst.no/kalendar/fagkonferanse-osteroy/
LOCATION:Danielsen ungdomsskule\, Valestrandsvegen 359\, Valestrandsfossen\, Norway
CATEGORIES:Fagkonferanse
ATTACH;FMTTYPE=image/jpeg:https://rusfrioppvekst.no/wp-content/uploads/2023/04/iStock-1131531362-scaled-e1681765309286.jpg
END:VEVENT
BEGIN:VEVENT
DTSTART;TZID=Europe/Helsinki:20230902T090000
DTEND;TZID=Europe/Helsinki:20230903T130000
DTSTAMP:20260423T135039
CREATED:20230418T122005Z
LAST-MODIFIED:20230811T131425Z
UID:1200-1693645200-1693746000@rusfrioppvekst.no
SUMMARY:STRATEGIKONFERANSE 2023
DESCRIPTION:Velkommen til strategikonferanse 2. – 3. september i Kr.sand S.\nHelgen byr på faglig påfyll\, sosialt samvær\, kulturelle opplevelser og gode diskusjoner rundt Rusfri Oppvekst sin visjon for de kommende årene. Vi håper mange av våre medlemmer vil være med oss denne helgen\, og komme med innspill til hvordan vi som organisasjon kan utvikle oss videre.\nSted: Comfort hotell\, Skippergata 7\, Kristiansand\nTid: 2. – 3. september\nDe fleste bruker nok fredag til reisedag\, og deltar på fellesmiddag om kvelden.\nNoen vil kanskje også komme for å delta på fagdagen og/eller fellesmiddagen om kvelden fredag.\n\nPris for representanter fra lokallagene:\nTo representanter pr lokallag deltar på organisasjonens regning med inntil to overnattinger\, inkl. reisedekning etter rimeligste reisemåte. Dekning av km-godtgjørelse for ev. kjøring i egen bil må avtales med daglig leder i forkant.\nPris for andre:\nKr 2 500 i enkeltrom for andre medlemmer/støttemedlemmer for hele konferansen\, inkl. kost og losji.\nKr 2 000 pr pers/dobbeltrom.\nKr 3 000 for deltakere som ikke er medlem/støttespiller.\nKr 1 000 per person uten overnatting\, alle måltider inkludert.\nReise på egen regning. \nLørdag kveld inviterer vi til fellesmiddag for deltakere og ev. medlemmer som bor i området og som ønsker å ta turen for den sosiale biten\, kr 400 per person. \nPåmelding innen 20. august via QR-koden:\n \neller sende e-post til: post@rusfrioppvekst.no \nPROGRAM \nFredag\, 1. september\n\nKl. 09:00 – 15:00 inviterer vi ansatte i Kr.sand kommune o.a. til fagkonferanse på Thon hotell Kristiansand i Markensgate 39. \nDeltakerne på Strategikonferansen er selvsagt velkomne til å delta på fagkonferansen\, men ev ekstradøgn på\nhotell fra torsdag må dekkes selv og koster kr 1 000 for enkeltrom\, kr 600 per person i dobbeltrom.\nSelve fagkonferansen er gratis for medlemmer. Påmelding til fagkonferansen gjøres ved påmelding til strategikonferansen via QR-koden over. \nKl. 18:00 blir det felles vandring fra hotellet til fellesmåltid med Kristiansand avholdslag. De holder til i eget lokale kalt Totalen\, hvor de bl.a. arrangerer “God helgestart” hver fredag kveld. Hennes serveres laks med tilbehør. \nLørdag\, 2. September \nLørdag er det konferanse kl. 09:00 – 17:00 etterfulgt av middag og sosialt samvær. \nSøndag\, 3. September \nSøndag er det full aktivitet kl. 09:00 – 13:00. Siste måltid blir lunsj kl. 12:00 på hotellet. \nKle deg etter værvarselet! \nVel møtt!
URL:https://rusfrioppvekst.no/kalendar/1200/
LOCATION:Comfort Hotell Kristiansans\, Skippergata 7-9\, Kristiansand\, 5803\, Norway
CATEGORIES:Strategikonferanse
ATTACH;FMTTYPE=image/jpeg:https://rusfrioppvekst.no/wp-content/uploads/2023/03/2021_Strategikonferanse_Utsira_Gruppearbeid--scaled-e1681820348989.jpg
ORGANIZER;CN="Rusfri Oppvekst":MAILTO:post@rusfrioppvekst.no
END:VEVENT
BEGIN:VEVENT
DTSTART;TZID=Europe/Helsinki:20230901T163000
DTEND;TZID=Europe/Helsinki:20230901T180000
DTSTAMP:20260423T135039
CREATED:20230424T101308Z
LAST-MODIFIED:20230811T130502Z
UID:1337-1693585800-1693591200@rusfrioppvekst.no
SUMMARY:LANDSSTYREMØTE
DESCRIPTION:I forbindelse med strategikonferansen samles landsstyret også til styremøte. Eventuelle saker som lokallag e.a. ønsker at styret skal behandle\, meldes til daglig leder.
URL:https://rusfrioppvekst.no/kalendar/landsstyremote-2/
CATEGORIES:Landsstyremøte
ATTACH;FMTTYPE=image/png:https://rusfrioppvekst.no/wp-content/uploads/2023/04/tegning_MOTE_meeting-gbd8939271_1280-e1682328590660.png
END:VEVENT
BEGIN:VEVENT
DTSTART;TZID=Europe/Helsinki:20230901T090000
DTEND;TZID=Europe/Helsinki:20230901T150000
DTSTAMP:20260423T135039
CREATED:20230424T100710Z
LAST-MODIFIED:20230817T085349Z
UID:1332-1693558800-1693580400@rusfrioppvekst.no
SUMMARY:FAGKONFERANSE I KRISTIANSAND
DESCRIPTION:Velkommen til fagkonferanse i Kristiansand S. \nPris: kr 750. Studentpris kr 300. Medlemmer gratis. \nMer info her: Konferanser | Rusfri Oppvekst
URL:https://rusfrioppvekst.no/kalendar/fagkonferanse-i-kristiansand/
CATEGORIES:Fagkonferanse
ATTACH;FMTTYPE=image/jpeg:https://rusfrioppvekst.no/wp-content/uploads/2023/04/iStock-1131531362-scaled-e1681765309286.jpg
END:VEVENT
BEGIN:VEVENT
DTSTART;TZID=Europe/Helsinki:20230831T080000
DTEND;TZID=Europe/Helsinki:20230831T133000
DTSTAMP:20260423T135039
CREATED:20230424T100438Z
LAST-MODIFIED:20230817T085251Z
UID:1330-1693468800-1693488600@rusfrioppvekst.no
SUMMARY:FAGKONFERANSE I LAVANGEN
DESCRIPTION:Fagkonferansen i Lavangen er for ansatte i Lavangen og Salangen kommuner. \n  \n 
URL:https://rusfrioppvekst.no/kalendar/fagdag-i-lavanger/
CATEGORIES:Fagkonferanse
ATTACH;FMTTYPE=image/jpeg:https://rusfrioppvekst.no/wp-content/uploads/2023/04/iStock-1131531362-scaled-e1681765309286.jpg
END:VEVENT
BEGIN:VEVENT
DTSTART;TZID=Europe/Helsinki:20230822T193000
DTEND;TZID=Europe/Helsinki:20230822T210000
DTSTAMP:20260423T135039
CREATED:20230424T094718Z
LAST-MODIFIED:20230424T094718Z
UID:1325-1692732600-1692738000@rusfrioppvekst.no
SUMMARY:LANDSSTYREMØTE
DESCRIPTION:Tirsdag kveld er landsstyret samlet digitalt til styremøte.\nEventuelle saker som lokallag e.a. ønsker at styret skal behandle\, meldes til daglig leder.
URL:https://rusfrioppvekst.no/kalendar/landsstyremote/
CATEGORIES:Landsstyremøte
ATTACH;FMTTYPE=image/png:https://rusfrioppvekst.no/wp-content/uploads/2023/04/tegning_MOTE_meeting-gbd8939271_1280-e1682328590660.png
END:VEVENT
BEGIN:VEVENT
DTSTART;TZID=Europe/Helsinki:20230622T190000
DTEND;TZID=Europe/Helsinki:20230622T203000
DTSTAMP:20260423T135039
CREATED:20230531T092502Z
LAST-MODIFIED:20230531T092804Z
UID:1560-1687460400-1687465800@rusfrioppvekst.no
SUMMARY:LANDSSTYREMØTE
DESCRIPTION:Torsdag kveld er landsstyret samlet digitalt til styremøte. Eventuelle saker som lokallag e.a. ønsker at styret skal behandle\, meldes til daglig leder.
URL:https://rusfrioppvekst.no/kalendar/landsstyremote/
LOCATION:digitalt
CATEGORIES:Landsstyremøte
ATTACH;FMTTYPE=image/png:https://rusfrioppvekst.no/wp-content/uploads/2023/04/tegning_MOTE_meeting-gbd8939271_1280-e1682328590660.png
END:VEVENT
BEGIN:VEVENT
DTSTART;TZID=Europe/Helsinki:20230620T180000
DTEND;TZID=Europe/Helsinki:20230620T193000
DTSTAMP:20260423T135039
CREATED:20230421T232501Z
LAST-MODIFIED:20230611T193531Z
UID:1246-1687284000-1687289400@rusfrioppvekst.no
SUMMARY:Rusfri Oppvekst Bergen: SKULPTURVANDRING
DESCRIPTION:Tirsdag 20. juni inviterer lokallaget til skulpturvandring på Nordnes. Harriet Garlid guider oss og deler av sin kunnskap.\nFrammøte ved Muren kl.18:00. \nFor påmelding: Klikk først på overskriften! \nPåmelding her! \neller påmelding via QR-koden
URL:https://rusfrioppvekst.no/kalendar/rusfri-oppvekst-bergen-skulpturvandring/
CATEGORIES:Lokallag
ATTACH;FMTTYPE=image/jpeg:https://rusfrioppvekst.no/wp-content/uploads/2023/04/220608_Rusfri-dag_-Skulpturvandring.jpg
END:VEVENT
BEGIN:VEVENT
DTSTART;VALUE=DATE:20230608
DTEND;VALUE=DATE:20230609
DTSTAMP:20260423T135039
CREATED:20230424T095752Z
LAST-MODIFIED:20230424T095858Z
UID:1322-1686182400-1686268799@rusfrioppvekst.no
SUMMARY:RUSFRI DAG
DESCRIPTION:8 juni hvert år arrangeres RUSFRI DAG.\n Med Rusfri dag setter vi hvert år søkelys på hva rusmidler gjør med oss\, og oppfordrer folk til å avstå fra alkohol og annen rus. \nHovedarrangør er Frelsesarmeen\, og temaet engasjerer tusenvis av mennesker hvert år. Derfor deltar også Rusfri Oppvekst på denne markeringen årlig\, og vil gjerne ha med sine lokallag og medlemmer til å markere dagen. \nHvordan kan du være med?\nVi oppfordrer deg som enkeltperson eller lokallaget til å markere denne dagen der du/dere er. Skål i rusfri drikke\, inviter gjerne til en rusfri fest eller sammenkomst eller finn på noe kreativt som vekker oppmerksomhet. \nOver hele landet ønsker vi hvert år at folk skal møte gode ambassadører og ildsjeler som ønsker folk “god Rusfri dag og god sommer“. \nDagen skal uansett være en dag for solidaritet og ansvar\, og med Rusfri dag ønsker vi å vise at rusfrihet også er frihet fra skade og utrygghet. \nTa Kontakt med hovedkontoret for mer info eller for å bestille utstyr til deres lokale arrangement .
URL:https://rusfrioppvekst.no/kalendar/rusfri-dag/
CATEGORIES:Vervestand
ATTACH;FMTTYPE=image/jpeg:https://rusfrioppvekst.no/wp-content/uploads/2023/04/220608_Rusfri-dag_-Stand.jpg
END:VEVENT
BEGIN:VEVENT
DTSTART;TZID=Europe/Helsinki:20230607T090000
DTEND;TZID=Europe/Helsinki:20230607T153000
DTSTAMP:20260423T135039
CREATED:20230424T091718Z
LAST-MODIFIED:20230424T092350Z
UID:1306-1686128400-1686151800@rusfrioppvekst.no
SUMMARY:Actis: JUBILEUMSKONFERANSE
DESCRIPTION:7. juni arrangerer Actis en høyaktuell konferanse\, “Tiltak som virker” i anledning feiring av sitt 20 årsjubileum.\nKonferansen tar for seg tiltak\, metoder og prosjekter som har lykkes med sin satsning på barn og unge.\n \nMedlemmer i Actis’ medlemsorganisasjoner deltar gratis! \nLes hele saken og meld deg på her! 
URL:https://rusfrioppvekst.no/kalendar/actis-jubileumskonferanse-tiltak-som-virker/
CATEGORIES:Konferanse
ATTACH;FMTTYPE=image/png:https://rusfrioppvekst.no/wp-content/uploads/2023/04/Logo_Actis.png
END:VEVENT
BEGIN:VEVENT
DTSTART;TZID=Europe/Helsinki:20230530T193000
DTEND;TZID=Europe/Helsinki:20230530T210000
DTSTAMP:20260423T135039
CREATED:20230424T093725Z
LAST-MODIFIED:20230424T093725Z
UID:1320-1685475000-1685480400@rusfrioppvekst.no
SUMMARY:LANDSSTYREMØTE
DESCRIPTION:Tirsdag kveld er landsstyret samlet digitalt til styremøte.\nEventuelle saker som lokallag e.a. ønsker at styret skal behandle\, meldes til daglig leder.
URL:https://rusfrioppvekst.no/kalendar/landsstyremote/
CATEGORIES:Landsstyremøte
ATTACH;FMTTYPE=image/png:https://rusfrioppvekst.no/wp-content/uploads/2023/04/tegning_MOTE_meeting-gbd8939271_1280-e1682328590660.png
END:VEVENT
BEGIN:VEVENT
DTSTART;TZID=Europe/Helsinki:20230525T180000
DTEND;TZID=Europe/Helsinki:20230525T193000
DTSTAMP:20260423T135039
CREATED:20230421T230303Z
LAST-MODIFIED:20230421T230411Z
UID:1242-1685037600-1685043000@rusfrioppvekst.no
SUMMARY:Rusfri Oppvekst Bergen: KAFÉTREFF
DESCRIPTION:Torsdag\, 25. mai kl. 18:00 møtes vi på Espressohouse på Åsane senter til uformell prat over kaffe eller noe annet godt i koppen. Kom og bli kjent med  andre medlemmer i lokallaget. Kjøp din egen kaffe og se etter bordet med Rusfri Oppvekst-oppslag på.\nVel møtt!
URL:https://rusfrioppvekst.no/kalendar/rusfri-oppvekst-bergen-kafetreff/
CATEGORIES:Lokallag
ATTACH;FMTTYPE=image/jpeg:https://rusfrioppvekst.no/wp-content/uploads/2023/04/220407_Bergen_Kafetreff-scaled-e1682118174154.jpg
END:VEVENT
BEGIN:VEVENT
DTSTART;TZID=Europe/Helsinki:20230523T150000
DTEND;TZID=Europe/Helsinki:20230523T170000
DTSTAMP:20260423T135039
CREATED:20230417T203938Z
LAST-MODIFIED:20230424T093126Z
UID:1176-1684854000-1684861200@rusfrioppvekst.no
SUMMARY:Rusfri Oppvekst Trondheim og omegn: ÅRSMØTE
DESCRIPTION:VEL MØTT TIL ÅRSMØTE\nI LOKALLAGET RUSFRI OPPVEKST TRONDHEIM OG OMEGN\nTID: TIRSDAG 23. MAI KL. 15.00\nSTED: BATTERIET MIDT-NORGE (Schultz gate 8\, ved Hornemannsgården)\nVanlige årsmøtesaker.\nForedrag av ansatt fra Batteriet Midt-Norge:\nHvordan bør organisasjoner jobbe for å bli synlige i den offentlige debatten?\nVEL MØTT!
URL:https://rusfrioppvekst.no/kalendar/arsmote-i-rusfri-oppvekst-trondheim-og-omegn/
LOCATION:Schultz gate 8\, Schultz gate 8\, Trondheim\, Norway
CATEGORIES:Årsmøte
ATTACH;FMTTYPE=image/png:https://rusfrioppvekst.no/wp-content/uploads/2023/04/tegning_MOTE_meeting-gbd8939271_1280-e1682328590660.png
ORGANIZER;CN="Rusfri Oppvekst Trondheim og omegn":MAILTO:kiplek@hotmail.com
END:VEVENT
BEGIN:VEVENT
DTSTART;TZID=Europe/Helsinki:20230509T080000
DTEND;TZID=Europe/Helsinki:20230509T140000
DTSTAMP:20260423T135039
CREATED:20230424T084658Z
LAST-MODIFIED:20230424T100840Z
UID:1294-1683619200-1683640800@rusfrioppvekst.no
SUMMARY:FAGKONFERANSE I HAMMERFEST
DESCRIPTION:Velkommen til fagkonferanse på Scandic hotell Hammerfest. \nPris: kr 750. Studentpris kr 300. Medlemmer gratis.\nNB! Påmeldte til fagkonferansen i Honningsvåg høsten-22 (som ble kansellert på grunn av været) deltar gratis!\nPrisen inkluderer lunsjservering og pausebuffeter. \nSe plakaten her! \nPåmelding:
URL:https://rusfrioppvekst.no/kalendar/fagkonferanse-i-hammerfest/
CATEGORIES:Fagkonferanse
ATTACH;FMTTYPE=image/jpeg:https://rusfrioppvekst.no/wp-content/uploads/2023/04/iStock-1131531362-scaled-e1681765309286.jpg
END:VEVENT
BEGIN:VEVENT
DTSTART;TZID=Europe/Helsinki:20230508T083000
DTEND;TZID=Europe/Helsinki:20230508T143000
DTSTAMP:20260423T135039
CREATED:20230424T083159Z
LAST-MODIFIED:20230424T083254Z
UID:1288-1683534600-1683556200@rusfrioppvekst.no
SUMMARY:FAGKONFERANSE I HONNINGSVÅG
DESCRIPTION:Velkommen til fagkonferanse på Menighetshuset i Honningsvåg. \nPris: kr 750. Studentpris kr 300. Medlemmer gratis.\nNB! Påmeldte til fagkonferansen høsten-22 (som ble kansellert på grunn av været) deltar gratis!\nPrisen inkluderer lunsjservering og pausemat. \nSe plakaten her! \nPåmelding:
URL:https://rusfrioppvekst.no/kalendar/fagkonferanse-i-honningsvag/
LOCATION:Menighetshuset Honningsvåg\, Honningsvåg
CATEGORIES:Fagkonferanse
ATTACH;FMTTYPE=image/jpeg:https://rusfrioppvekst.no/wp-content/uploads/2023/04/iStock-1131531362-scaled-e1681765309286.jpg
END:VEVENT
BEGIN:VEVENT
DTSTART;TZID=Europe/Helsinki:20230427T180000
DTEND;TZID=Europe/Helsinki:20230427T180000
DTSTAMP:20260423T135039
CREATED:20230424T081606Z
LAST-MODIFIED:20230424T082226Z
UID:1279-1682618400-1682618400@rusfrioppvekst.no
SUMMARY:Rusfri Oppvekst Nordkapp: SOFADIALOG OM RUS OG VOLD I NÆRE RELASJONER
DESCRIPTION:Denne kvelden har vi invitert en representant fra barnevernet\, psykiatrisk sykepleier og en ungdomspolitiker til å delta i en SOFADIALOG rundt temaet “rus og vold i nære relasjoner”. Før dialogen\, vises kortfilmen HYSJ. \nVirksomhetsleder for rus og psykiatri i Honningsvåg kommune\, Elin Adolfsen leder dialogen som bygger på folkehelseprofilen og hvordan det er i vår kommune. \nLokallagets arbeid blir også presentert i håp om å starte en prosess med holdninger. \nVel møtt til en viktig kveld på Menighetshuset torsdag\, 27. april kl.18:00!
URL:https://rusfrioppvekst.no/kalendar/rusfri-oppvekst-nordkapp-sofadialog-om-rus-og-vold-i-naere-relasjoner/
LOCATION:Menighetshuset Honningsvåg\, Honningsvåg
CATEGORIES:Lokallag
ATTACH;FMTTYPE=image/png:https://rusfrioppvekst.no/wp-content/uploads/2023/04/tegning_FILM_film-gae5c6865c_1280.png
END:VEVENT
BEGIN:VEVENT
DTSTART;TZID=Europe/Helsinki:20230427T090000
DTEND;TZID=Europe/Helsinki:20230427T150000
DTSTAMP:20260423T135039
CREATED:20230417T205937Z
LAST-MODIFIED:20230424T100904Z
UID:1189-1682586000-1682607600@rusfrioppvekst.no
SUMMARY:Fagkonferanse på Hell
DESCRIPTION:Velkommen til fagkonferanse på Hell. \nPris: kr 750. Studentpris kr 300. Medlemmer gratis.\nPrisen inkluderer lunsjservering og pausebuffeter. \n230427__dagskonf_Plakat_Trondheim_Hell_SOME.pdf (rusfrioppvekst.no) \nPåmelding:
URL:https://rusfrioppvekst.no/kalendar/fagkonferanse-pa-hell/
LOCATION:Scandic hotell Hell
CATEGORIES:Fagkonferanse
ATTACH;FMTTYPE=image/jpeg:https://rusfrioppvekst.no/wp-content/uploads/2023/04/iStock-1131531362-scaled-e1681765309286.jpg
END:VEVENT
BEGIN:VEVENT
DTSTART;VALUE=DATE:20230422
DTEND;VALUE=DATE:20230424
DTSTAMP:20260423T135039
CREATED:20230421T225129Z
LAST-MODIFIED:20230424T083952Z
UID:1238-1682121600-1682294399@rusfrioppvekst.no
SUMMARY:Landsstyremøte
DESCRIPTION:Helgen 22. – 23. April er landsstyret samlet ved hovedkontoret i Bergen.
URL:https://rusfrioppvekst.no/kalendar/landsstyremote/
LOCATION:Øvre Korskirkesmauet 2B\, Bergen
CATEGORIES:Landsstyremøte
ATTACH;FMTTYPE=image/jpeg:https://rusfrioppvekst.no/wp-content/uploads/2023/04/230422_LSM_Bergen.jpg
END:VEVENT
BEGIN:VEVENT
DTSTART;TZID=Europe/Helsinki:20230421T090000
DTEND;TZID=Europe/Helsinki:20230421T150000
DTSTAMP:20260423T135039
CREATED:20230417T205202Z
LAST-MODIFIED:20230424T085428Z
UID:1184-1682067600-1682089200@rusfrioppvekst.no
SUMMARY:Fagkonferanse Volda
DESCRIPTION:Velkommen til fagkonferanse i regi av Volda kommune i samarbeid med Rusfri Oppvekst. \nhttps://rusfrioppvekst.no/wp-content/uploads/2023/03/230421__dagskonf_Plakat_Volda_SOME_v3.pdf \nForedragsholder Heidi Wittrup Djup (i midten) sammen med Line Homberset og Håvard Strand fra Volda kommune
URL:https://rusfrioppvekst.no/kalendar/fagkonferanse-volda/
LOCATION:Volda samfunnshus\, Storgata 14\, Volda\, Norway
CATEGORIES:Fagkonferanse
ATTACH;FMTTYPE=image/jpeg:https://rusfrioppvekst.no/wp-content/uploads/2023/04/iStock-1131531362-scaled-e1681765309286.jpg
END:VEVENT
BEGIN:VEVENT
DTSTART;TZID=Europe/Helsinki:20230420T190000
DTEND;TZID=Europe/Helsinki:20230420T210000
DTSTAMP:20260423T135039
CREATED:20230417T200940Z
LAST-MODIFIED:20230421T232845Z
UID:1159-1682017200-1682024400@rusfrioppvekst.no
SUMMARY:Rusfri Oppvekst Bergen: ALLSANG OG ÅRSMØTE I ÅSANE
DESCRIPTION:Vel møtt til årsmøte og kulturkveld i Rusfri Oppvekst Bergen\nSted: Åsane kulturhus (Klubben)\nTid: Torsdag\, 20. april kl.19:00\nKulturinnslag og allsang med Bjørn Berentsen og Jan Inge Wiig Andersen.\nGratis entré! Påmelding på grunn av servering: \n\n 
URL:https://rusfrioppvekst.no/kalendar/allsang-og-arsmote-i-asane/
LOCATION:Åsane kulturhus\, Klubben\, Åsane senter 52\, Bergen\, Norway
ATTACH;FMTTYPE=image/jpeg:https://rusfrioppvekst.no/wp-content/uploads/2023/04/musikk_PIXABAY_silhouette-g7a3b77f80_1280.jpg
ORGANIZER;CN="Rusfri Oppvekst Bergen":MAILTO:post@rusfrioppvekst.no
END:VEVENT
END:VCALENDAR