BEGIN:VCALENDAR
VERSION:2.0
PRODID:-//Rusfri Oppvekst - ECPv6.15.20//NONSGML v1.0//EN
CALSCALE:GREGORIAN
METHOD:PUBLISH
X-ORIGINAL-URL:https://rusfrioppvekst.no
X-WR-CALDESC:Events for Rusfri Oppvekst
REFRESH-INTERVAL;VALUE=DURATION:PT1H
X-Robots-Tag:noindex
X-PUBLISHED-TTL:PT1H
BEGIN:VTIMEZONE
TZID:Europe/Helsinki
BEGIN:DAYLIGHT
TZOFFSETFROM:+0200
TZOFFSETTO:+0300
TZNAME:EEST
DTSTART:20230326T010000
END:DAYLIGHT
BEGIN:STANDARD
TZOFFSETFROM:+0300
TZOFFSETTO:+0200
TZNAME:EET
DTSTART:20231029T010000
END:STANDARD
BEGIN:DAYLIGHT
TZOFFSETFROM:+0200
TZOFFSETTO:+0300
TZNAME:EEST
DTSTART:20240331T010000
END:DAYLIGHT
BEGIN:STANDARD
TZOFFSETFROM:+0300
TZOFFSETTO:+0200
TZNAME:EET
DTSTART:20241027T010000
END:STANDARD
BEGIN:DAYLIGHT
TZOFFSETFROM:+0200
TZOFFSETTO:+0300
TZNAME:EEST
DTSTART:20250330T010000
END:DAYLIGHT
BEGIN:STANDARD
TZOFFSETFROM:+0300
TZOFFSETTO:+0200
TZNAME:EET
DTSTART:20251026T010000
END:STANDARD
BEGIN:DAYLIGHT
TZOFFSETFROM:+0200
TZOFFSETTO:+0300
TZNAME:EEST
DTSTART:20260329T010000
END:DAYLIGHT
BEGIN:STANDARD
TZOFFSETFROM:+0300
TZOFFSETTO:+0200
TZNAME:EET
DTSTART:20261025T010000
END:STANDARD
END:VTIMEZONE
BEGIN:VEVENT
DTSTART;TZID=Europe/Helsinki:20241205T130000
DTEND;TZID=Europe/Helsinki:20241205T160000
DTSTAMP:20260423T085408
CREATED:20241119T113942Z
LAST-MODIFIED:20241119T113942Z
UID:6681-1733403600-1733414400@rusfrioppvekst.no
SUMMARY:JULEMØTE I TRONDHEIM
DESCRIPTION:Velkommen til julemøte \nSted: Trondheim misjonskirke i Arkitekt Christies gate 1C (nabo til bl.a. Prinsen kinosenter og Frelsesarmeen).  \nUnderholdning\, kaffe og kaker. \nI forkant av møtet er det mulighet for å spise julelunsj (buffé) på Scandic Nidelven kl 11:30. Dette betales direkte til hotellet av den enkelte. Pris: 595 pr person inkl. kaffe. \nPåmelding innen 27. november til tlf. 416 26 292 \nVELKOMMEN
URL:https://rusfrioppvekst.no/kalendar/julemote-i-trondheim/
LOCATION:Trondheim misjonskirke\, Arkitekt Christies gt. 1c\, Trondheim\, 7012
CATEGORIES:Lokallag
ATTACH;FMTTYPE=image/jpeg:https://rusfrioppvekst.no/wp-content/uploads/2024/11/Jul_Pixabay_christmas-tree-6870755_1280.jpg
END:VEVENT
BEGIN:VEVENT
DTSTART;TZID=Europe/Helsinki:20241209T104500
DTEND;TZID=Europe/Helsinki:20241209T123000
DTSTAMP:20260423T085408
CREATED:20241206T180108Z
LAST-MODIFIED:20241206T180108Z
UID:6829-1733741100-1733747400@rusfrioppvekst.no
SUMMARY:VÅG Å VÆRE-klassebesøk 2 på Manger barneskule
DESCRIPTION:Denne dagen får 7.klasse-elevene nok et besøk av prosjektleder Marit Barene.
URL:https://rusfrioppvekst.no/kalendar/vag-a-vaere-klassebesok-2-pa-manger-barneskule/
CATEGORIES:Skolebesøk
ATTACH;FMTTYPE=image/jpeg:https://rusfrioppvekst.no/wp-content/uploads/2024/12/Vag-a-Vaere_Bilder.jpg
END:VEVENT
BEGIN:VEVENT
DTSTART;TZID=Europe/Helsinki:20241210T103000
DTEND;TZID=Europe/Helsinki:20241210T110000
DTSTAMP:20260423T085408
CREATED:20241206T180302Z
LAST-MODIFIED:20241206T180302Z
UID:6832-1733826600-1733828400@rusfrioppvekst.no
SUMMARY:VÅG Å VÆRE-klassebesøk 2 på Grasdal skule
DESCRIPTION:Denne dagen får 7.klasse-elevene nok et besøk av prosjektleder Marit Barene.
URL:https://rusfrioppvekst.no/kalendar/vag-a-vaere-klassebesok-2-pa-grasdal-skule/
CATEGORIES:Skolebesøk
ATTACH;FMTTYPE=image/jpeg:https://rusfrioppvekst.no/wp-content/uploads/2024/12/Vag-a-Vaere_Bilder.jpg
END:VEVENT
BEGIN:VEVENT
DTSTART;TZID=Europe/Helsinki:20241211T100000
DTEND;TZID=Europe/Helsinki:20241211T130000
DTSTAMP:20260423T085408
CREATED:20241206T182309Z
LAST-MODIFIED:20241206T182309Z
UID:6836-1733911200-1733922000@rusfrioppvekst.no
SUMMARY:PLANMØTE OM STRATEGIKONFERANSEN
DESCRIPTION:Gruppen som skal forberede Strategikonferansen 2025 møtes til planlegging denne dagen.\nHar du innspill til tema eller foredrag\, kultur eller annet\, send gjerne dine innspill her.
URL:https://rusfrioppvekst.no/kalendar/planmote-om-strategikonferansen/
CATEGORIES:Strategikonferanse
ATTACH;FMTTYPE=image/jpeg:https://rusfrioppvekst.no/wp-content/uploads/2024/12/planlegging_Pixabay_flowchart-8860311_1280.jpg
END:VEVENT
BEGIN:VEVENT
DTSTART;TZID=Europe/Helsinki:20241212T111500
DTEND;TZID=Europe/Helsinki:20241212T130000
DTSTAMP:20260423T085408
CREATED:20241206T180448Z
LAST-MODIFIED:20241206T180448Z
UID:6834-1734002100-1734008400@rusfrioppvekst.no
SUMMARY:VÅG Å VÆRE-klassebesøk 2 på Avaldsnes skole
DESCRIPTION:Denne dagen får 7.klasse-elevene nok et besøk av prosjektleder Marit Barene.
URL:https://rusfrioppvekst.no/kalendar/vag-a-vaere-klassebesok-2-pa-avaldsnes-skole/
CATEGORIES:Skolebesøk
ATTACH;FMTTYPE=image/jpeg:https://rusfrioppvekst.no/wp-content/uploads/2024/12/Vag-a-Vaere_Bilder.jpg
END:VEVENT
BEGIN:VEVENT
DTSTART;TZID=Europe/Helsinki:20250109T190000
DTEND;TZID=Europe/Helsinki:20250109T203000
DTSTAMP:20260423T085408
CREATED:20241206T183040Z
LAST-MODIFIED:20250106T131802Z
UID:6839-1736449200-1736454600@rusfrioppvekst.no
SUMMARY:RO BERGEN: styremøte
DESCRIPTION:Torsdag\, 9. januar er det styremøte i Lokallaget Ro Bergen. \nEr du medlem i lokallaget og har innspill til saker\, er det bare å ta kontakt med styreleder Basi Pashaei.
URL:https://rusfrioppvekst.no/kalendar/ro-bergen-styremote-2/
CATEGORIES:Lokallag
ATTACH;FMTTYPE=image/png:https://rusfrioppvekst.no/wp-content/uploads/2023/04/tegning_MOTE_meeting-gbd8939271_1280-e1682328590660.png
END:VEVENT
BEGIN:VEVENT
DTSTART;TZID=Europe/Helsinki:20250120T083000
DTEND;TZID=Europe/Helsinki:20250120T143000
DTSTAMP:20260423T085408
CREATED:20241206T174011Z
LAST-MODIFIED:20250106T131658Z
UID:6811-1737361800-1737383400@rusfrioppvekst.no
SUMMARY:Fagkonferanse på Karmøy
DESCRIPTION:Velkommen til fagkonferanse om “Barn i krise” ved Heidi Wittrup Djup.\nDyp er psykologspesialist med spesialistutdanning innen samfunns- og allmennpsykologi. Hun har etterutdanning som barnefaglig\nsakkyndig og innen traumebehandlings-metoden EMDR samt behandling av kronisk traumatisering og dissosiering. \n Gratis for medlemmer! Mer informasjon her!
URL:https://rusfrioppvekst.no/kalendar/fagkonferanse-pa-karmoy-3/
LOCATION:Park Inn by Radisson Haugesund Airport\, Avaldsnes
CATEGORIES:Fagkonferanse
ATTACH;FMTTYPE=image/jpeg:https://rusfrioppvekst.no/wp-content/uploads/2024/12/Heidi-Wittrup-Djup_2_Fotograf_Natasha-Busel-Fana-fotostudio-scaled.jpg
END:VEVENT
BEGIN:VEVENT
DTSTART;TZID=Europe/Helsinki:20250121T110000
DTEND;TZID=Europe/Helsinki:20250121T140000
DTSTAMP:20260423T085408
CREATED:20250128T141201Z
LAST-MODIFIED:20250128T141227Z
UID:7746-1737457200-1737468000@rusfrioppvekst.no
SUMMARY:VÅG Å VÆRE Klassebesøk
DESCRIPTION:Tirsdag\, 21. Januar kommer prosjektleder Marit Barene på nytt klassebesøk på 7.trinnet på Avaldsnes skole. \nDenne dagen vises kortfilmen Hysj etterfulgt av gruppearbeid og refleksjon. \nRusfri Oppvekst byr på enkel servering av frukt m.m. denne skoledagen.
URL:https://rusfrioppvekst.no/kalendar/vag-a-vaere-klassebesok-avaldsnes-skole/
LOCATION:Avaldsnes skole
CATEGORIES:Skolebesøk
ATTACH;FMTTYPE=image/jpeg:https://rusfrioppvekst.no/wp-content/uploads/2025/01/Film-Hysj.jpg
END:VEVENT
BEGIN:VEVENT
DTSTART;TZID=Europe/Helsinki:20250121T173000
DTEND;TZID=Europe/Helsinki:20250121T193000
DTSTAMP:20260423T085408
CREATED:20250128T141815Z
LAST-MODIFIED:20250128T142310Z
UID:7751-1737480600-1737487800@rusfrioppvekst.no
SUMMARY:VÅG Å VÆRE foreldremøte
DESCRIPTION:Tirsdag kveld 21. januar inviterer vi til FORELDREMØTE på 7.trinnet. \n«Bry deg! Si nei til narkotika!” \nMange lokalsamfunn melder om rusproblematikk blant barn og unge\, og vi er definitivt i en endringstid hvor blant annet avkriminalisering og legalisering av narkotika er aktuelle diskusjonstemaer i samfunnet.\nTil foreldremøte nr.2 i pilotprosjektet “Våg å være” møter du prosjektleder Marit Barene og Torbjørn Nervik.\nDenne kvelden blir det formidlet informasjon og kunnskap om narkotika og viktigheten av foreldrenettverksbygging. \nSe plakaten her!
URL:https://rusfrioppvekst.no/kalendar/vag-a-vaere-foreldremote/
LOCATION:Avaldsnes skole
CATEGORIES:Foreldremøte
ATTACH;FMTTYPE=image/jpeg:https://rusfrioppvekst.no/wp-content/uploads/2025/01/Avaldsnes-Foreldremote.jpg
END:VEVENT
BEGIN:VEVENT
DTSTART;TZID=Europe/Helsinki:20250123T173000
DTEND;TZID=Europe/Helsinki:20250123T190000
DTSTAMP:20260423T085408
CREATED:20250128T134759Z
LAST-MODIFIED:20250128T135506Z
UID:7735-1737653400-1737658800@rusfrioppvekst.no
SUMMARY:VÅG Å VÆRE fellestreff
DESCRIPTION:Velkommen til FELLESTREFF for elevar på 7.trinnet og foreldre/føresette ved Manger barneskule. \nKORLEIS HAR BARN OG UNGE DET I ALVER KOMMUNE?\nProsjektkoordinator Marit Barene inviterer til ein kveld kor elevar og foreldre SAMAN samtaler over ulike emne som mobbing\,utanforskap\nog rus gjennom å spele Haldningsspelet SNX. \nTid for refleksjon og samtale over noko godt å ete. \n Sjå invitasjonen her! \n 
URL:https://rusfrioppvekst.no/kalendar/vag-a-vaere-fellestreff/
LOCATION:Manger barneskule
CATEGORIES:Foreldremøte
ATTACH;FMTTYPE=image/jpeg:https://rusfrioppvekst.no/wp-content/uploads/2025/01/231109_Adland_Klassebesok_SNX-scaled.jpg
END:VEVENT
BEGIN:VEVENT
DTSTART;TZID=Europe/Helsinki:20250131T083000
DTEND;TZID=Europe/Helsinki:20250131T143000
DTSTAMP:20260423T085408
CREATED:20241206T183848Z
LAST-MODIFIED:20241206T191234Z
UID:6843-1738312200-1738333800@rusfrioppvekst.no
SUMMARY:Fagkonferanse i Alver kommune
DESCRIPTION:Velkommen til fagkonferanse om “Barn som pårørende” ved Gerd Helene Irgens.\nIrgens er psykiatrisk sykepleier og jobber som seniorrådgiver og kst.seksjonsleder i avdeling for rus-medisin\n\, Helse Bergen. Hun har lang fartstid fra rusfeltet med klinisk arbeid rettet mot pasienter og pårørende.\nBarn som pårørende er et sentralt tema i hennes arbeid. \nMer info kommer
URL:https://rusfrioppvekst.no/kalendar/fagkonferanse-i-alver-kommune-2/
ATTACH;FMTTYPE=image/jpeg:https://rusfrioppvekst.no/wp-content/uploads/2024/12/Gerd-Helene-Irgens_5-e1733512346933.jpg
END:VEVENT
BEGIN:VEVENT
DTSTART;TZID=Europe/Helsinki:20250211T173000
DTEND;TZID=Europe/Helsinki:20250211T190000
DTSTAMP:20260423T085408
CREATED:20250206T085152Z
LAST-MODIFIED:20250206T091254Z
UID:7815-1739295000-1739300400@rusfrioppvekst.no
SUMMARY:VÅG Å VÆRE PÅ GRASDAL SKULE
DESCRIPTION:Tirsdag\, 11. februar møter prosjektleder Marit Barene elever og foreldre på 7.trinnet på Grasdal skule til nytt treff i prosjektet Våg å være. \n 
URL:https://rusfrioppvekst.no/kalendar/vag-a-vaere-pa-manger/
LOCATION:Grasdal skule
CATEGORIES:Foreldremøte
ATTACH;FMTTYPE=image/jpeg:https://rusfrioppvekst.no/wp-content/uploads/2025/01/231109_Adland_Klassebesok_SNX-scaled.jpg
END:VEVENT
BEGIN:VEVENT
DTSTART;TZID=Europe/Helsinki:20250211T180000
DTEND;TZID=Europe/Helsinki:20250211T200000
DTSTAMP:20260423T085408
CREATED:20250210T141521Z
LAST-MODIFIED:20250210T142245Z
UID:7856-1739296800-1739304000@rusfrioppvekst.no
SUMMARY:STUDIERING i RO Glåmdal
DESCRIPTION:Studieringer arrangeres i samarbeid med FMR Glåmdal og Edru Livsstil Glåmdal.\nTre kvelder i vår inviterer inviteres du studiemøter \nTema:\n11.februar: Elever som sliter med rus og følger det får i skolehverdagen.\n4.mars: Psykoaktive midler og belønningssystemet vårt.\nFor tredje møte er ikke dato og tema bestemt\, da innleder ikke er på plass ennå. Info kommer på møte 1 eller 2. \nFor mer info: Kontakt  lagets leder Tone Teppen på e-post eller ring henne på tlf. 951 55 215.
URL:https://rusfrioppvekst.no/kalendar/studiering-i-ro-glamdal/
LOCATION:Frivilligsentralen Skarnes\, Øgardsvegen 11\, Skarnes\, 2100
CATEGORIES:Lokallag,Studiering
ATTACH;FMTTYPE=image/jpeg:https://rusfrioppvekst.no/wp-content/uploads/2025/02/Studiering_Pixabay_meeting-1015590_1280.jpg
END:VEVENT
BEGIN:VEVENT
DTSTART;TZID=Europe/Helsinki:20250213T190000
DTEND;TZID=Europe/Helsinki:20250213T203000
DTSTAMP:20260423T085408
CREATED:20250110T111515Z
LAST-MODIFIED:20250210T135901Z
UID:7565-1739473200-1739478600@rusfrioppvekst.no
SUMMARY:ÅRSMØTE i RO Bergen
DESCRIPTION:Vel møtt til ÅRSMØTE i lokallaget Rusfri Oppvekst Bergen. \nDet blir vanlige årsmøtesaker og enkel servering. \nHar du lyst til å engasjere deg noe mer i lagets arbeid\, ta kontakt med lagets leder Basi Pashaei på e-post eller ring henne på tlf. 994 19 469. Styret vil gjerne ha flere med. \nDu finner hele innkallingen her!
URL:https://rusfrioppvekst.no/kalendar/arsmote-i-ro-bergen-2/
LOCATION:Åsane kulturhus\, Åsane senter 52\, Åsane
CATEGORIES:Årsmøte,Lokallag
ATTACH;FMTTYPE=image/png:https://rusfrioppvekst.no/wp-content/uploads/2023/04/tegning_MOTE_meeting-gbd8939271_1280-e1682328590660.png
END:VEVENT
BEGIN:VEVENT
DTSTART;TZID=Europe/Helsinki:20250214T150000
DTEND;TZID=Europe/Helsinki:20250214T170000
DTSTAMP:20260423T085408
CREATED:20241206T190956Z
LAST-MODIFIED:20241206T190956Z
UID:6850-1739545200-1739552400@rusfrioppvekst.no
SUMMARY:AU-MØTE
DESCRIPTION:Årets første AU-møte holdes i forkant av landsstyremøtehelg i Oslo.  
URL:https://rusfrioppvekst.no/kalendar/au-mote-2/
LOCATION:Torggata 1\, Oslo\, Torggata 1\, Oslo
CATEGORIES:AU-møte
ATTACH;FMTTYPE=image/png:https://rusfrioppvekst.no/wp-content/uploads/2024/12/Gruppemote_Pixabay_team-6779779_1280.png
END:VEVENT
BEGIN:VEVENT
DTSTART;TZID=Europe/Helsinki:20250214T173000
DTEND;TZID=Europe/Helsinki:20250216T130000
DTSTAMP:20260423T085408
CREATED:20241012T191057Z
LAST-MODIFIED:20250206T085256Z
UID:6310-1739554200-1739710800@rusfrioppvekst.no
SUMMARY:LANDSSTYREMØTE
DESCRIPTION:Landsstyret samles til fysisk styremøte i Oslo. \nEventuelle saker som lokallag e.a. ønsker at styret skal behandle\, meldes til daglig leder på e-post
URL:https://rusfrioppvekst.no/kalendar/landsstyremote-9/
LOCATION:Torggata 1\, Oslo\, Torggata 1\, Oslo
CATEGORIES:Landsstyremøte
ATTACH;FMTTYPE=image/jpeg:https://rusfrioppvekst.no/wp-content/uploads/2024/10/Styremote-scaled.jpg
END:VEVENT
BEGIN:VEVENT
DTSTART;TZID=Europe/Helsinki:20250215T180000
DTEND;TZID=Europe/Helsinki:20250215T210000
DTSTAMP:20260423T085408
CREATED:20250206T083457Z
LAST-MODIFIED:20250206T090012Z
UID:7810-1739642400-1739653200@rusfrioppvekst.no
SUMMARY:KULTURKVELD I OSLO
DESCRIPTION:Lørdag\, 15. februar kl.18:00 – 21:00\ninviteres medlemmer til KULTURKVELD\nHYGGEPRAT OG KULTURPROGRAM\, SERVERING AV MIDDAG OG KAFFEMAT\nUTLODNING \nUndersøkelser viser at folk som synger har bedre humør og bedre helse enn andre. Denne lørdagen spiller bandet ALLES VEL en blanding av klassikere og oldiser i skjønn forening med allsang.\nLandsstyret kommer også. Kommer du \nPå grunn av servering\, ber vi om påmelding innen 13.2. Husk å oppgi eventuell info om allergier.\nRing Shaugfta på tlf. 934 44 260 eller  Marit på tlf. 928 15 936\,\neller aller helst klikk her! \nSe invitasjonen her: 250215_RO Oslo_Kulturkveld
URL:https://rusfrioppvekst.no/kalendar/kulturkveld-i-oslo/
LOCATION:Torggata 1\, Oslo\, Torggata 1\, Oslo
CATEGORIES:Kulturkveld
ATTACH;FMTTYPE=image/jpeg:https://rusfrioppvekst.no/wp-content/uploads/2025/02/250215_Bandet-Folkets-Vel_Oslo.jpg
ORGANIZER;CN="Rusfri Oppvekst Oslo og omegn":MAILTO:post@rusfrioppvekst.no
END:VEVENT
BEGIN:VEVENT
DTSTART;TZID=Europe/Helsinki:20250219T114500
DTEND;TZID=Europe/Helsinki:20250219T123000
DTSTAMP:20260423T085408
CREATED:20250206T090735Z
LAST-MODIFIED:20250206T090823Z
UID:7822-1739965500-1739968200@rusfrioppvekst.no
SUMMARY:LUNSJFOREDRAG FOR STUDENTER
DESCRIPTION:Onsdag\, 19. februar Inviterer vi til lunsjforedrag på NLA campus Sandviken kl. 11:45 – 12:30.\nÅrrangementet er i samarbeid med lokallaget Rusfri Oppvekst Bergen. \nHeidi Wittrup Djup foredrar om psykisk helse blant studenter.\nHeidi Wittrup Djup er psykologspesialist med spesialistutdanning innen samfunns- og allmennpsykologi. Hun har etterutdanning som barnefaglig sakkyndig\, samt innenfor traumebehandlingsmetoden EMDR og behandling.
URL:https://rusfrioppvekst.no/kalendar/lunsjforedrag-for-studenter-2/
LOCATION:NLA Sandviken\, Amalie Skrams vei 3\, Bergen
CATEGORIES:Seminar
ATTACH;FMTTYPE=image/jpeg:https://rusfrioppvekst.no/wp-content/uploads/2025/02/Heidi-Wittrup-Djup_2_Fotograf_Natasha-Busel-Fana-fotostudio-scaled.jpg
END:VEVENT
BEGIN:VEVENT
DTSTART;TZID=Europe/Helsinki:20250220T090000
DTEND;TZID=Europe/Helsinki:20250220T110000
DTSTAMP:20260423T085408
CREATED:20250206T091514Z
LAST-MODIFIED:20250428T112430Z
UID:7828-1740042000-1740049200@rusfrioppvekst.no
SUMMARY:VÅG Å VÆRE SKOLEBESØK PÅ MANGER
DESCRIPTION:Torsdag\, 20. februar møter prosjektleder Marit Barene elever på 7.trinnet på Manger skule til nytt treff i prosjektet Våg å være.
URL:https://rusfrioppvekst.no/kalendar/vag-a-vaere-skolebesok-pa-manger/
LOCATION:Manger barneskule
CATEGORIES:Skolebesøk
ATTACH;FMTTYPE=image/jpeg:https://rusfrioppvekst.no/wp-content/uploads/2025/01/231109_Adland_Klassebesok_SNX-scaled.jpg
END:VEVENT
BEGIN:VEVENT
DTSTART;TZID=Europe/Helsinki:20250225T190000
DTEND;TZID=Europe/Helsinki:20250225T203000
DTSTAMP:20260423T085408
CREATED:20250216T205636Z
LAST-MODIFIED:20250216T205636Z
UID:7914-1740510000-1740515400@rusfrioppvekst.no
SUMMARY:ÅRSMØTE I RO NORDKAPP
DESCRIPTION:Vel møtt til ÅRSMØTE i lokallaget Rusfri Oppvekst Nordkapp. \nDet blir vanlige årsmøtesaker og enkel servering. \nHar du lyst til å engasjere deg noe mer i lagets arbeid\, ta kontakt med lagets kontaktperson Bente Floer på e-post eller ring henne på tlf. 976 73 520. Styret vil gjerne ha flere med.
URL:https://rusfrioppvekst.no/kalendar/arsmote-i-ro-nordkapp-2/
LOCATION:Frivilligsentralen Honningsvåg
CATEGORIES:Årsmøte
ATTACH;FMTTYPE=image/png:https://rusfrioppvekst.no/wp-content/uploads/2023/04/tegning_MOTE_meeting-gbd8939271_1280-e1682328590660.png
END:VEVENT
BEGIN:VEVENT
DTSTART;TZID=Europe/Helsinki:20250303T160000
DTEND;TZID=Europe/Helsinki:20250303T173000
DTSTAMP:20260423T085408
CREATED:20250217T092620Z
LAST-MODIFIED:20250217T092711Z
UID:7919-1741017600-1741023000@rusfrioppvekst.no
SUMMARY:ÅRSMØTE i RO Osterøy
DESCRIPTION:Vel møtt til ÅRSMØTE i lokallaget Rusfri Oppvekst Osterøy. \nDet blir vanlige årsmøtesaker og bevertning. Daglig leder i Rusfri Oppvekst\, Marit Barene kommer for å orientere om sentralt arbeid\, prosjekter o.a. \nHar du lyst til å engasjere deg noe mer i lagets arbeid\, ta kontakt med lagets leder Tone Mosevoll på e-post eller ring henne på tlf. 982 60 414. Styret vil gjerne ha med flere.
URL:https://rusfrioppvekst.no/kalendar/arsmote-i-ro-osteroy/
LOCATION:Danielsen ungdomsskule\, Valestrandsvegen 359\, Valestrandsfossen\, Norway
CATEGORIES:Årsmøte
ATTACH;FMTTYPE=image/png:https://rusfrioppvekst.no/wp-content/uploads/2023/04/tegning_MOTE_meeting-gbd8939271_1280-e1682328590660.png
END:VEVENT
BEGIN:VEVENT
DTSTART;TZID=Europe/Helsinki:20250304T090000
DTEND;TZID=Europe/Helsinki:20250304T120000
DTSTAMP:20260423T085408
CREATED:20250211T214737Z
LAST-MODIFIED:20250211T214843Z
UID:7880-1741078800-1741089600@rusfrioppvekst.no
SUMMARY:VÅG Å VÆRE SKOLEBESØK PÅ GRASDAL SKULE
DESCRIPTION:Tirsdag\, 4. mars møter prosjektleder Marit Barene elever på 7.trinnet på Grasdal skule til nytt treff i prosjektet Våg å være.
URL:https://rusfrioppvekst.no/kalendar/vag-a-vaere-skolebesok-pa-grasdal-skule/
LOCATION:Grasdal skule
CATEGORIES:Skolebesøk
ATTACH;FMTTYPE=image/jpeg:https://rusfrioppvekst.no/wp-content/uploads/2025/02/Hysj-Avaldsnes.jpg
END:VEVENT
BEGIN:VEVENT
DTSTART;TZID=Europe/Helsinki:20250304T180000
DTEND;TZID=Europe/Helsinki:20250304T200000
DTSTAMP:20260423T085408
CREATED:20250210T141817Z
LAST-MODIFIED:20250210T141950Z
UID:7859-1741111200-1741118400@rusfrioppvekst.no
SUMMARY:STUDIERING i RO Glåmdal
DESCRIPTION:Studieringer arrangeres i samarbeid med FMR Glåmdal og Edru Livsstil Glåmdal.\nTre kvelder i vår inviterer inviteres du studiemøter \nTema:\n11.februar: Elever som sliter med rus og følger det får i skolehverdagen.\n4.mars: Psykoaktive midler og belønningssystemet vårt.\nFor tredje møte er ikke dato og tema bestemt\, da innleder ikke er på plass ennå. Info kommer på møtet. \nFor mer info: Kontakt  lagets leder Tone Teppen på e-post eller ring henne på tlf. 951 55 215.
URL:https://rusfrioppvekst.no/kalendar/studiering-i-ro-glamdal-2/
LOCATION:Frivilligsentralen\, Honningsvåg
CATEGORIES:Lokallag
ATTACH;FMTTYPE=image/jpeg:https://rusfrioppvekst.no/wp-content/uploads/2025/02/Studiering_Pixabay_meeting-1015590_1280.jpg
END:VEVENT
BEGIN:VEVENT
DTSTART;TZID=Europe/Helsinki:20250306T093000
DTEND;TZID=Europe/Helsinki:20250306T113000
DTSTAMP:20260423T085408
CREATED:20250206T092430Z
LAST-MODIFIED:20250206T092430Z
UID:7830-1741253400-1741260600@rusfrioppvekst.no
SUMMARY:TORSDAGSPÅFYLL I OSLO om sosiale medier\, for ansatte og styremedlemmer i lokallag
DESCRIPTION:Velkommen til TORSDAGSPÅFYLL som passer best for ansatte og lokallagsstyrer. \nTema: sosiale medier\nHvordan kan din organisasjon bruke sosiale medier enda mer effektivt for å nå ut med viktige budskap? \nTorsdag 6.mars kl.09.30-11.30 i regi av Actis.\nDet er også mulig å delta digitalt\, men det er ekstra hyggelig om du deltar med oss i Torggata 1. \nMeld deg på her https://no.surveymonkey.com/r/39LFM8S \nTa gjerne en titt på programmet på vår hjemmeside: https://actis.no/arrangementer/%C3%A5-bli-synlig-i-some
URL:https://rusfrioppvekst.no/kalendar/torsdagspafyll-i-oslo-om-sosiale-medier-for-ansatte-og-styremedlemmer-i-lokallag/
LOCATION:Torggata 1 eller digitalt
CATEGORIES:Digitalkurs,Kurs
ATTACH;FMTTYPE=image/png:https://rusfrioppvekst.no/wp-content/uploads/2023/08/Foreldremote_Pixabay_teaching-311356_1280.png
END:VEVENT
BEGIN:VEVENT
DTSTART;TZID=Europe/Helsinki:20250310T180000
DTEND;TZID=Europe/Helsinki:20250310T193000
DTSTAMP:20260423T085408
CREATED:20250206T093054Z
LAST-MODIFIED:20250210T140102Z
UID:7832-1741629600-1741635000@rusfrioppvekst.no
SUMMARY:ÅRSMØTE i RO Oslo og omegn
DESCRIPTION:Vel møtt til ÅRSMØTE i lokallaget Rusfri Oppvekst Oslo og omegn. \nDet blir vanlige årsmøtesaker og enkel servering. \nHar du lyst til å engasjere deg noe mer i lagets arbeid\, ta kontakt med lagets leder Shaugfta Parveen på e-post eller ring henne på tlf. 934 44 260. Styret vil gjerne ha flere med.
URL:https://rusfrioppvekst.no/kalendar/arsmote-i-ro-oslo-og-omegn/
LOCATION:Torggata 1\, Oslo\, Torggata 1\, Oslo
CATEGORIES:Årsmøte,Lokallag
ATTACH;FMTTYPE=image/jpeg:https://rusfrioppvekst.no/wp-content/uploads/2025/02/230312_RO-Oslo_Stiftingsmote.jpg
END:VEVENT
BEGIN:VEVENT
DTSTART;TZID=Europe/Helsinki:20250318T190000
DTEND;TZID=Europe/Helsinki:20250318T200000
DTSTAMP:20260423T085408
CREATED:20250210T135438Z
LAST-MODIFIED:20250210T135758Z
UID:7850-1742324400-1742328000@rusfrioppvekst.no
SUMMARY:ÅRSMØTE i RO Glåmdal
DESCRIPTION:Vel møtt til ÅRSMØTE i lokallaget Rusfri Oppvekst Glåmdal. \nDet blir vanlige årsmøtesaker. \nHar du lyst til å engasjere deg noe mer i lagets arbeid\, ta kontakt med lagets leder Tone Teppen på e-post eller ring henne på tlf. 951 55 215. Styret vil gjerne ha flere med.
URL:https://rusfrioppvekst.no/kalendar/arsmote-i-ro-glamdal/
LOCATION:Kulturhuset Skogtun\, Skarnes
CATEGORIES:Årsmøte
ATTACH;FMTTYPE=image/png:https://rusfrioppvekst.no/wp-content/uploads/2023/04/tegning_MOTE_meeting-gbd8939271_1280-e1682328590660.png
END:VEVENT
BEGIN:VEVENT
DTSTART;TZID=Europe/Helsinki:20250322T120000
DTEND;TZID=Europe/Helsinki:20250322T140000
DTSTAMP:20260423T085408
CREATED:20250110T114154Z
LAST-MODIFIED:20250110T115254Z
UID:7572-1742644800-1742652000@rusfrioppvekst.no
SUMMARY:VERVESTANDS PÅ KNARVIK SENTER
DESCRIPTION:Styret i lokallaget Rusfri Oppvekst Bergen har informasjons- og vervestand på Knarvik senter lørdag\, 22.mars kl. 12 – 14. \nTå kontakt med lagets leder Basi Pashaei på e-post eller ring henne på tlf. 994 19 469. Styret vil gjerne ha flere med.
URL:https://rusfrioppvekst.no/kalendar/vervestands-pa-knarvik-senter/
LOCATION:Knarvik senter\, Knarvik\, Alver
CATEGORIES:Lokallag,Vervestand
ATTACH;FMTTYPE=image/jpeg:https://rusfrioppvekst.no/wp-content/uploads/2025/01/240427_RO-Bergen_Vervestand_Knarvik.jpeg
END:VEVENT
BEGIN:VEVENT
DTSTART;TZID=Europe/Helsinki:20250326T183000
DTEND;TZID=Europe/Helsinki:20250326T203000
DTSTAMP:20260423T085408
CREATED:20250225T103558Z
LAST-MODIFIED:20250307T094042Z
UID:8583-1743013800-1743021000@rusfrioppvekst.no
SUMMARY:TEMAKVELD "Hysj" - i regi av RO Bergen og Rusfri Oppvekst
DESCRIPTION:Velkommen til TEMAKVELD om «Rus i nære relasjoner» og «Barn som pårørende»\ni kantinen i Nordhordlandshallen (Juvikstølen 25)\nOnsdag\, 26. mars kl.18:30 \nHvordan har egentlig barn som pårørende det? \nDenne kvelden viser vi kortfilmen HYSJ som handler om 12-åringen Martin som utad virker som en vanlig smilende gutt\, men hjemme møter han usikkerhet og  en tøff virkelighet. Med en alkoholisert far\, og en mor som knapt klarer å håndtere situasjonen\, blir Martin tvunget til å gjøre det som skal til for å holde familien samlet. \nSe invitasjonen her! \nEtter filmen blir det DIALOG med representanter i Alver lokalsamfunn. Møt representant fra politiet\, skolen\, Ungdomsrådet\, Salto og kommunen.
URL:https://rusfrioppvekst.no/kalendar/temakveld-i-regi-av-ro-bergen/
LOCATION:Nordhordlandshallen: Kantinen\, Kvernhusmyrane 20\, Knarvik\, 5914\, Norway
CATEGORIES:Lokallag
ATTACH;FMTTYPE=image/jpeg:https://rusfrioppvekst.no/wp-content/uploads/2025/02/Hysj_NOR_2-scaled.jpg
ORGANIZER;CN="Rusfri Oppvekst Bergen":MAILTO:post@rusfrioppvekst.no
END:VEVENT
BEGIN:VEVENT
DTSTART;TZID=Europe/Helsinki:20250403T110000
DTEND;TZID=Europe/Helsinki:20250403T130000
DTSTAMP:20260423T085408
CREATED:20250127T143300Z
LAST-MODIFIED:20250226T092309Z
UID:7723-1743678000-1743685200@rusfrioppvekst.no
SUMMARY:ÅRSMØTE i RO Trondheim og omegn
DESCRIPTION:Vel møtt til ÅRSMØTE i lokallaget Rusfri Oppvekst Trondheim og omegn. \nDet blir vanlige årsmøtesaker\, musikkinnslag og bevertning. Daglig leder i Rusfri Oppvekst\, Marit Barene kommer for å orientere om sentralt arbeid\, prosjekter o.a. \nHar du lyst til å engasjere deg noe mer i lagets arbeid\, ta kontakt med lagets leder Marit Fosså på e-post eller ring henne på tlf. 913 27 548. Styret vil gjerne ha med flere. \n 
URL:https://rusfrioppvekst.no/kalendar/arsmote-i-trondheim-og-omegn/
LOCATION:Hornemannsgården\, Kongensgate 7\, Trondheim
CATEGORIES:Årsmøte
ATTACH;FMTTYPE=image/png:https://rusfrioppvekst.no/wp-content/uploads/2023/04/tegning_MOTE_meeting-gbd8939271_1280-e1682328590660.png
END:VEVENT
BEGIN:VEVENT
DTSTART;TZID=Europe/Helsinki:20250403T140000
DTEND;TZID=Europe/Helsinki:20250403T153000
DTSTAMP:20260423T085408
CREATED:20250402T205758Z
LAST-MODIFIED:20250403T075123Z
UID:10891-1743688800-1743694200@rusfrioppvekst.no
SUMMARY:Årsmøte i RO KARMØY
DESCRIPTION:Vel møtt til ÅRSMØTE i lokallaget Rusfri Oppvekst Karmøy. \nDet blir vanlige årsmøtesaker og bevertning. \nHar du lyst til å engasjere deg noe mer i lagets arbeid\, ta kontakt med lagets leder Møyfrid Ferking Birkeland på e-post eller ring henne på tlf. 402 93 633. Styret vil gjerne ha med flere.
URL:https://rusfrioppvekst.no/kalendar/arsmote-i-ro-karmoy-2/
LOCATION:Kopervik kulturhus\, Skolegaten 9\, Kopervik\, 4250
CATEGORIES:Årsmøte,Lokallag
ATTACH;FMTTYPE=image/png:https://rusfrioppvekst.no/wp-content/uploads/2025/04/tegning_MOTE_meeting-gbd8939271_1280.png
END:VEVENT
END:VCALENDAR