BEGIN:VCALENDAR
VERSION:2.0
PRODID:-//Rusfri Oppvekst - ECPv6.15.20//NONSGML v1.0//EN
CALSCALE:GREGORIAN
METHOD:PUBLISH
X-ORIGINAL-URL:https://rusfrioppvekst.no
X-WR-CALDESC:Events for Rusfri Oppvekst
REFRESH-INTERVAL;VALUE=DURATION:PT1H
X-Robots-Tag:noindex
X-PUBLISHED-TTL:PT1H
BEGIN:VTIMEZONE
TZID:Europe/Helsinki
BEGIN:DAYLIGHT
TZOFFSETFROM:+0200
TZOFFSETTO:+0300
TZNAME:EEST
DTSTART:20240331T010000
END:DAYLIGHT
BEGIN:STANDARD
TZOFFSETFROM:+0300
TZOFFSETTO:+0200
TZNAME:EET
DTSTART:20241027T010000
END:STANDARD
BEGIN:DAYLIGHT
TZOFFSETFROM:+0200
TZOFFSETTO:+0300
TZNAME:EEST
DTSTART:20250330T010000
END:DAYLIGHT
BEGIN:STANDARD
TZOFFSETFROM:+0300
TZOFFSETTO:+0200
TZNAME:EET
DTSTART:20251026T010000
END:STANDARD
BEGIN:DAYLIGHT
TZOFFSETFROM:+0200
TZOFFSETTO:+0300
TZNAME:EEST
DTSTART:20260329T010000
END:DAYLIGHT
BEGIN:STANDARD
TZOFFSETFROM:+0300
TZOFFSETTO:+0200
TZNAME:EET
DTSTART:20261025T010000
END:STANDARD
END:VTIMEZONE
BEGIN:VEVENT
DTSTART;TZID=Europe/Helsinki:20250407T180000
DTEND;TZID=Europe/Helsinki:20250407T210000
DTSTAMP:20260423T130401
CREATED:20241012T191434Z
LAST-MODIFIED:20250221T084101Z
UID:6313-1744048800-1744059600@rusfrioppvekst.no
SUMMARY:LANDSSTYREMØTE
DESCRIPTION:Landsstyret samles til digitalt styremøte. \nEventuelle saker som lokallag e.a. ønsker at styret skal behandle\, meldes til daglig leder på e-post
URL:https://rusfrioppvekst.no/kalendar/landsstyremote-10/
CATEGORIES:Landsstyremøte
ATTACH;FMTTYPE=image/jpeg:https://rusfrioppvekst.no/wp-content/uploads/2024/10/Styremote-scaled.jpg
END:VEVENT
BEGIN:VEVENT
DTSTART;TZID=Europe/Helsinki:20250408T100000
DTEND;TZID=Europe/Helsinki:20250408T120000
DTSTAMP:20260423T130401
CREATED:20250408T112156Z
LAST-MODIFIED:20250408T112156Z
UID:11298-1744106400-1744113600@rusfrioppvekst.no
SUMMARY:VÅG Å VÆRE SKOLEBESØK PÅ MANGER BARNESKULE
DESCRIPTION:Tirsdag\, 8. april møter prosjektleder Marit Barene elever på 7.trinnet på Manger barneskule til nytt treff i prosjektet Våg å være.\nDenne gang vises filmen Hysj etterfulgt av gruppearbeid og pizzakos.
URL:https://rusfrioppvekst.no/kalendar/vag-a-vaere-skolebesok-pa-manger-barneskule/
LOCATION:Manger barneskule
CATEGORIES:Skolebesøk
ATTACH;FMTTYPE=image/jpeg:https://rusfrioppvekst.no/wp-content/uploads/2025/02/Hysj_NOR_2-scaled.jpg
END:VEVENT
BEGIN:VEVENT
DTSTART;TZID=Europe/Helsinki:20250410T113000
DTEND;TZID=Europe/Helsinki:20250410T130000
DTSTAMP:20260423T130401
CREATED:20250409T074025Z
LAST-MODIFIED:20250409T074025Z
UID:11316-1744284600-1744290000@rusfrioppvekst.no
SUMMARY:Forebyggings- og behandlingsreformen del 2 legges frem
DESCRIPTION:Torsdag\, 10. april legger justis- og beredskapsminister Astri Aas-Hansen og helse- og omsorgsminister Jan Christian Vestre fram del II av regjeringens forebyggings- og behandlingsreform for rusfeltet. \nRegjeringen legger fram lovforslaget for å sørge for at personer som er avhengig av rusmiddel først og fremst møtes med god helsehjelp og oppfølging\, ikke straff. \nI oktober 2024 la regjeringen fram stortingsmeldinga Meld. St. 5 (2024–2025) Tryggleik\, fellesskap og verdigheit\, som del I av forebyggings- og behandlingsreformen på rusfeltet. \nFølg med på sendingen på direkten her!
URL:https://rusfrioppvekst.no/kalendar/forebyggings-og-behandlingsreformen-del-2-legges-frem/
LOCATION:digitalt
CATEGORIES:Digitalkurs,Politikk,Webinar
ATTACH;FMTTYPE=image/jpeg:https://rusfrioppvekst.no/wp-content/uploads/2025/04/Stortinget_Pixabay_building-4902502_1280.jpg
END:VEVENT
BEGIN:VEVENT
DTSTART;TZID=Europe/Helsinki:20250424T093000
DTEND;TZID=Europe/Helsinki:20250424T113000
DTSTAMP:20260423T130401
CREATED:20250403T080150Z
LAST-MODIFIED:20250403T080150Z
UID:10905-1745487000-1745494200@rusfrioppvekst.no
SUMMARY:WEBINAR: Forebyggings- og behandlingsreformen del 2
DESCRIPTION:Actis presenterer Forebyggings- og behandlingsreformen del 2\nDel 1 av reformen ble lagt frem i oktober i fjor.\nNå har Regjeringen varslet at del 2 kommer før påske. Det blir en lovproposisjon som blant annet følger opp forslag og høringsinnspill fra Rushåndhevingsutvalget. \nHva er positivt og hva er negativt ved denne delen av reformen?\nSamtaler og diskusjoner. \n(PS: Datoen er med forbehold om at reformen er lagt frem på dette tidspunktet.)    \nProgram og påmelding her!
URL:https://rusfrioppvekst.no/kalendar/webinar-forebyggings-og-behandlingsreformen-del-2/
LOCATION:Torggata 1 eller digitalt
CATEGORIES:Webinar
ATTACH;FMTTYPE=image/jpeg:https://rusfrioppvekst.no/wp-content/uploads/2025/04/Stortinget_Pixabay_building-4902502_1280.jpg
END:VEVENT
BEGIN:VEVENT
DTSTART;TZID=Europe/Helsinki:20250507T090000
DTEND;TZID=Europe/Helsinki:20250507T150000
DTSTAMP:20260423T130401
CREATED:20250401T113905Z
LAST-MODIFIED:20250401T113905Z
UID:10863-1746608400-1746630000@rusfrioppvekst.no
SUMMARY:FAGKONFERANSE I ASKER
DESCRIPTION:Onsdag\, 7.mai kl. 09:00 – 15:00 inviterer vi til fagkonferanse “Barn som pårørende”.\nSted: Scandic Asker hotell\, Askerveien 61\, Asker. \nGerd Helene Irgens er psykiatrisk sykepleier og jobber som seniorrådgiver og kst.seksjonsleder i avdeling for rusmedisin\, Helse Bergen. Hun har lang fartstid fra rusfeltet med klinisk arbeid rettet mot pasienter og pårørende. Barn som pårørende er et sentralt tema i hennes arbeid. \nSe plakaten her!
URL:https://rusfrioppvekst.no/kalendar/fagkonferanse-i-asker/
LOCATION:Scandic Asker hotell\, Askerveien 61\, Asker
CATEGORIES:Fagkonferanse
ATTACH;FMTTYPE=image/jpeg:https://rusfrioppvekst.no/wp-content/uploads/2025/02/Gerd-Helene-Irgens_6-scaled-e1743507516114.jpg
END:VEVENT
BEGIN:VEVENT
DTSTART;TZID=Europe/Helsinki:20250507T183000
DTEND;TZID=Europe/Helsinki:20250507T203000
DTSTAMP:20260423T130401
CREATED:20250512T102541Z
LAST-MODIFIED:20250513T072518Z
UID:11927-1746642600-1746649800@rusfrioppvekst.no
SUMMARY:ÅRSMØTE RO GUDBRANDSDALEN/LILLEHAMMER
DESCRIPTION:Velkommen til årsmøte på Hafjell. \nDet blir vanlige årsmøtesaker etterfulgt av middag.\nÅrsmøtet får besøk av daglig leder Marit Barene. \nIngen påmelding. \nFor ev. spørsmål; kontakt Kåre Simenstad.
URL:https://rusfrioppvekst.no/kalendar/arsmote-ro-gudbrandsdalen-lillehammer/
LOCATION:Hafjell hotell\, Øier
CATEGORIES:Årsmøte
ATTACH;FMTTYPE=image/png:https://rusfrioppvekst.no/wp-content/uploads/2025/04/tegning_MOTE_meeting-gbd8939271_1280.png
END:VEVENT
BEGIN:VEVENT
DTSTART;TZID=Europe/Helsinki:20250515T090000
DTEND;TZID=Europe/Helsinki:20250515T113000
DTSTAMP:20260423T130401
CREATED:20250513T072420Z
LAST-MODIFIED:20250513T072420Z
UID:11938-1747299600-1747308600@rusfrioppvekst.no
SUMMARY:KLASSEBESØK PÅ MANGER BARNESKULE
DESCRIPTION:Tirsdag\, 15. mai møter prosjektleder Marit Barene elever på 7.trinnet på Manger skule til nytt treff i prosjektet Våg å være.
URL:https://rusfrioppvekst.no/kalendar/klassebesok-pa-manger-barneskule/
LOCATION:Manger barneskule
CATEGORIES:Skolebesøk
ATTACH;FMTTYPE=image/jpeg:https://rusfrioppvekst.no/wp-content/uploads/2025/02/SNX-135-1-scaled.jpg
END:VEVENT
BEGIN:VEVENT
DTSTART;TZID=Europe/Helsinki:20250520T180000
DTEND;TZID=Europe/Helsinki:20250520T190000
DTSTAMP:20260423T130401
CREATED:20250514T123854Z
LAST-MODIFIED:20250514T124046Z
UID:12011-1747764000-1747767600@rusfrioppvekst.no
SUMMARY:ÅRSMØTE I RO TRYSIL
DESCRIPTION:Velkommen til årsmøte i Nybergsund. \nDet blir vanlige årsmøtesaker. \nPåmelding og ev. spørsmål; kontakt lagets leder Ole Arild Bovolden
URL:https://rusfrioppvekst.no/kalendar/arsmote-i-ro-trysil/
LOCATION:Trysil\, Elvdalsvegen 5\, Nybergsund\, 2422
CATEGORIES:Årsmøte
ATTACH;FMTTYPE=image/png:https://rusfrioppvekst.no/wp-content/uploads/2025/04/tegning_MOTE_meeting-gbd8939271_1280.png
END:VEVENT
BEGIN:VEVENT
DTSTART;TZID=Europe/Helsinki:20250523T090000
DTEND;TZID=Europe/Helsinki:20250523T150000
DTSTAMP:20260423T130401
CREATED:20241206T192952Z
LAST-MODIFIED:20250512T103437Z
UID:6853-1747990800-1748012400@rusfrioppvekst.no
SUMMARY:FAGKONFERANSE I TRONDHEIM
DESCRIPTION:Velkommen til fagkonferanse om “Barn\, psykisk helse og ufrivillig skolefravær” ved Kirsten H. Resaland. \nResaland er barne- og ungdomspsykolog og har jobbet med barn og ungdom på ulike arenaer i over tyve år.\nHun er også forfatter. I 2020 gav hun ut ungdomsboken “Helt Ærlig om hvordan vi henger sammen” med legespesialist Astrid Nylander Almaas. Og i 2024 gav hun ut “Snakk til meg!” – en bok til voksne med konkrete innspill til hva som skaper trygghet i samtaler med ungdom. \nSe plakaten for påmelding her! \n 
URL:https://rusfrioppvekst.no/kalendar/fagkonferanse-i-hell/
LOCATION:Scandic hotell Solsiden\, Trondheim
CATEGORIES:Fagkonferanse
ATTACH;FMTTYPE=image/jpeg:https://rusfrioppvekst.no/wp-content/uploads/2025/01/Kirsten-Resaland_2023_109706_KR_44z-1.jpg
END:VEVENT
BEGIN:VEVENT
DTSTART;TZID=Europe/Helsinki:20250523T163000
DTEND;TZID=Europe/Helsinki:20250523T180000
DTSTAMP:20260423T130401
CREATED:20250513T082120Z
LAST-MODIFIED:20250513T082142Z
UID:11950-1748017800-1748023200@rusfrioppvekst.no
SUMMARY:LANDSSTYREMØTE i Trondheim
DESCRIPTION:Landsstyret samles til fysisk styremøte i Trondheim i forbindelse med årets Strategikonferanse. \nEventuelle saker som lokallag e.a. ønsker at styret skal behandle\, meldes til daglig leder på e-post
URL:https://rusfrioppvekst.no/kalendar/landsstyremote-i-trondheim/
LOCATION:Batteriet Trondheim\, Batteriet\, Schultz gate 8\, Trondheim
CATEGORIES:Landsstyremøte
ATTACH;FMTTYPE=image/jpeg:https://rusfrioppvekst.no/wp-content/uploads/2024/10/Styremote-scaled.jpg
END:VEVENT
BEGIN:VEVENT
DTSTART;TZID=Europe/Helsinki:20250523T193000
DTEND;TZID=Europe/Helsinki:20250525T140000
DTSTAMP:20260423T130401
CREATED:20241012T191710Z
LAST-MODIFIED:20250409T074418Z
UID:6315-1748028600-1748181600@rusfrioppvekst.no
SUMMARY:STRATEGIKONFERANSE
DESCRIPTION:Les alt om Strategikonferansen her!
URL:https://rusfrioppvekst.no/kalendar/strategikonferanse/
LOCATION:Scandic hotell Solsiden\, Trondheim
CATEGORIES:Strategikonferanse
ATTACH;FMTTYPE=image/jpeg:https://rusfrioppvekst.no/wp-content/uploads/2023/03/2021_Strategikonferanse_Utsira_Gruppearbeid--scaled-e1681820348989.jpg
END:VEVENT
BEGIN:VEVENT
DTSTART;TZID=Europe/Helsinki:20250524T183000
DTEND;TZID=Europe/Helsinki:20250524T210000
DTSTAMP:20260423T130401
CREATED:20250428T114707Z
LAST-MODIFIED:20250428T114707Z
UID:11667-1748111400-1748120400@rusfrioppvekst.no
SUMMARY:KULTURKVELD I TRONDHEIM
DESCRIPTION:Velkommen til kulturkveld i Trondheim i anledning årets Strategikonferanse.\nDenne kvelden serverer vi gryte til middag og kaffe/te med kake til.\nDet blir lett underholdning og allsang \nLandsstyret og ansatte deltar også denne kvelden\, og ønsker svært gjerne å hilse på medlemmer i lokallaget. \nPå grunn av matservering er det ønskelig med påmelding til 928 15 936 (SMS eller ring).\nHusk å melde ev. allergier \nSe invitasjonen her!
URL:https://rusfrioppvekst.no/kalendar/kulturkveld-i-trondheim/
LOCATION:Salem\, Prinsensgate 22B\, Trondheim
CATEGORIES:Kulturkveld
ATTACH;FMTTYPE=image/jpeg:https://rusfrioppvekst.no/wp-content/uploads/2025/04/Oddbjorn-Stjern.jpg
ORGANIZER;CN="Rusfri Oppvekst Trondheim og omegn":MAILTO:kiplek@hotmail.com
END:VEVENT
BEGIN:VEVENT
DTSTART;TZID=Europe/Helsinki:20250613T120000
DTEND;TZID=Europe/Helsinki:20250613T140000
DTSTAMP:20260423T130401
CREATED:20250612T113108Z
LAST-MODIFIED:20250612T113108Z
UID:12769-1749816000-1749823200@rusfrioppvekst.no
SUMMARY:DEBATTMØTE I BERGEN: En ruspolitikk som virker
DESCRIPTION:Velkommen på debattmøte om hvordan vi best forebygger for å redusere bruk.\nUnder debattmøtet løfter vi forebyggingsperspektivet i narkotikapolitikken. \n\n\nElse Kristin Utne Berg fra KORUS oppdaterer oss på rustrender i Bergen og politikerne tar debatten:\nHvordan forebygger vi best for å redusere bruk? \nArrangementet starter med lunsj og vi må derfor beregne antall deltakere. Meld deg på her: Påmelding
URL:https://rusfrioppvekst.no/kalendar/debattmote-i-bergen-en-ruspolitikk-som-virker/
LOCATION:Litteraturhuset i Bergen
CATEGORIES:Debatt,Politikk
ATTACH;FMTTYPE=image/jpeg:https://rusfrioppvekst.no/wp-content/uploads/2025/06/Debattmote-i-Bergen.jpg
END:VEVENT
BEGIN:VEVENT
DTSTART;TZID=Europe/Helsinki:20250812T110000
DTEND;TZID=Europe/Helsinki:20250812T130000
DTSTAMP:20260423T130401
CREATED:20250812T174917Z
LAST-MODIFIED:20250812T174917Z
UID:14902-1754996400-1755003600@rusfrioppvekst.no
SUMMARY:Stands under Arendalsuka
DESCRIPTION:Kom innom vår stands i Actis-teltet under Arendalsuka 🙂\nVi har mye spennende å dele ut og snakke med folk om.
URL:https://rusfrioppvekst.no/kalendar/stands-under-arendalsuka/
LOCATION:Arendal
CATEGORIES:Stands
ATTACH;FMTTYPE=image/jpeg:https://rusfrioppvekst.no/wp-content/uploads/2025/08/Arendalsuka-2025_Stands.jpg
END:VEVENT
BEGIN:VEVENT
DTSTART;TZID=Europe/Helsinki:20250813T110000
DTEND;TZID=Europe/Helsinki:20250813T130000
DTSTAMP:20260423T130401
CREATED:20250812T175152Z
LAST-MODIFIED:20250812T175246Z
UID:14906-1755082800-1755090000@rusfrioppvekst.no
SUMMARY:Stands under Arendalsuka
DESCRIPTION:Kom innom vår stands i Actis-teltet under Arendalsuka 🙂\nVi har mye spennende å dele ut og snakke med folk om.
URL:https://rusfrioppvekst.no/kalendar/stands-under-arendalsuka-2/
LOCATION:Arendal
ATTACH;FMTTYPE=image/jpeg:https://rusfrioppvekst.no/wp-content/uploads/2025/08/Arendalsuka-2025_Stands.jpg
END:VEVENT
BEGIN:VEVENT
DTSTART;TZID=Europe/Helsinki:20250814T100000
DTEND;TZID=Europe/Helsinki:20250814T120000
DTSTAMP:20260423T130401
CREATED:20250206T223642Z
LAST-MODIFIED:20250812T175550Z
UID:7838-1755165600-1755172800@rusfrioppvekst.no
SUMMARY:FAGSEMINAR på ARENDALSUKA
DESCRIPTION:Torsdag\, 14.august kl. 10:00 – 12:00 inviterer vi til fagseminaret “Barn som pårørende” under den politiske Arendalsuka.\nSted: Vitensenteret Arendal i Kystveien 2. \nVi spanderer frokost ved inngangen fra kl. 09:45. \nGerd Helene Irgens er psykiatrisk sykepleier og og jobber som avdelingssjef\, avd. for rusmedisin.\nHun har lang fartstid fra rusfeltet med klinisk arbeid rettet mot pasienter og pårørende. Barn som pårørende er et sentralt tema i hennes arbeid.
URL:https://rusfrioppvekst.no/kalendar/fagseminar-pa-arendalsua/
LOCATION:Vitensenteret Arendal\, Kystveien 2\, Arendal
CATEGORIES:Digitalkurs,Fagkonferanse,Kulturkveld,Kurs,Seminar
ATTACH;FMTTYPE=image/jpeg:https://rusfrioppvekst.no/wp-content/uploads/2025/02/Gerd-Helene-Irgens_6-scaled-e1743507516114.jpg
END:VEVENT
BEGIN:VEVENT
DTSTART;VALUE=DATE:20250908
DTEND;VALUE=DATE:20250911
DTSTAMP:20260423T130401
CREATED:20241206T194020Z
LAST-MODIFIED:20241206T194527Z
UID:6860-1757289600-1757548799@rusfrioppvekst.no
SUMMARY:Verving\, lagsarbeid og fagkonferanse i Sandnessjøen
DESCRIPTION:I september setter vi av hele tre dager i Sandnessjøen for å prøve å bygge opp lokallaget og øke med både medlemsvekst og aktivitet. Vil du engasjere deg i Nordland\, ta gjerne kontakt!
URL:https://rusfrioppvekst.no/kalendar/verving-lagsarbeid-og-fagkonferanse-i-sandnessjoen/
CATEGORIES:Lokallag
ATTACH;FMTTYPE=image/png:https://rusfrioppvekst.no/wp-content/uploads/2024/02/stand_Pixabay_flower-booth-2382223_1280-e1709197511426.png
END:VEVENT
BEGIN:VEVENT
DTSTART;TZID=Europe/Helsinki:20250909T083000
DTEND;TZID=Europe/Helsinki:20250909T143000
DTSTAMP:20260423T130401
CREATED:20250513T081716Z
LAST-MODIFIED:20250513T081819Z
UID:11947-1757406600-1757428200@rusfrioppvekst.no
SUMMARY:FAGKONFERANSE I SANDNESSJØEN
DESCRIPTION:Tirsdag\, 9.september kl. 08:30 – 14:30 inviterer vi til fagkonferanse\, “Barn som pårørende”.\nSted: Scandic hotell Syv søstre\, Torolv Kveldulvsons gate 16\, Sandnessjøen. \nGerd Helene Irgens er psykiatrisk sykepleier og jobber som seniorrådgiver og kst.seksjonsleder i avdeling for rusmedisin\, Helse Bergen. Hun har lang fartstid fra rusfeltet med klinisk arbeid rettet mot pasienter og pårørende. Barn som pårørende er et sentralt tema i hennes arbeid. \nSe plakaten her!
URL:https://rusfrioppvekst.no/kalendar/fagkonferanse-i-sandnessjoen/
LOCATION:Scandic hotell Syv søstre\, Torolv Kveldulvsons gate 16\, Sandnessjøen
CATEGORIES:Fagkonferanse
ATTACH;FMTTYPE=image/jpeg:https://rusfrioppvekst.no/wp-content/uploads/2025/02/Gerd-Helene-Irgens_6-scaled-e1743507516114.jpg
END:VEVENT
BEGIN:VEVENT
DTSTART;TZID=Europe/Helsinki:20250912T090000
DTEND;TZID=Europe/Helsinki:20250914T120000
DTSTAMP:20260423T130401
CREATED:20241206T193644Z
LAST-MODIFIED:20241206T193644Z
UID:6857-1757667600-1757851200@rusfrioppvekst.no
SUMMARY:LANDSSTYREMØTE I HONNINGSVÅG
DESCRIPTION:Landsstyret samles til fysisk styremøte i Honningsvåg. \nEventuelle saker som lokallag e.a. ønsker at styret skal behandle\, meldes til daglig leder på e-post
URL:https://rusfrioppvekst.no/kalendar/landsstyremote-i-honningsvag/
LOCATION:Honningsvåg
CATEGORIES:Landsstyremøte
ATTACH;FMTTYPE=image/jpeg:https://rusfrioppvekst.no/wp-content/uploads/2024/10/Styremote-scaled.jpg
END:VEVENT
BEGIN:VEVENT
DTSTART;TZID=Europe/Helsinki:20250915T083000
DTEND;TZID=Europe/Helsinki:20250915T140000
DTSTAMP:20260423T130401
CREATED:20241206T194853Z
LAST-MODIFIED:20250908T075250Z
UID:6864-1757925000-1757944800@rusfrioppvekst.no
SUMMARY:FAGKONFERANSE I HONNINGSVÅG
DESCRIPTION:Velkommen til fagkonferanse om “Barn\, psykisk helse og ufrivillig skolefravær” ved Kirsten H. Resaland. \nResaland er barne- og ungdomspsykolog og har jobbet med ungdom på ulike arenaer i over tyve år.\nHun er også forfatter. I 2020 gav hun ut ungdomsboken “Helt Ærlig om hvordan vi henger sammen” med legespesialist Astrid Nylander Almaas. Og i 2024 gav hun ut “Snakk til meg!” – en bok til voksne med konkrete innspill til hva som skaper trygghet i samtaler med ungdom. \nLes mer og påmelding her!
URL:https://rusfrioppvekst.no/kalendar/fagkonferanse-i-honningsvag-2/
LOCATION:Honningsvåg
CATEGORIES:Fagkonferanse
ATTACH;FMTTYPE=image/jpeg:https://rusfrioppvekst.no/wp-content/uploads/2024/12/Kirsten-Resaland.jpg
END:VEVENT
BEGIN:VEVENT
DTSTART;TZID=Europe/Helsinki:20250916T083000
DTEND;TZID=Europe/Helsinki:20250916T140000
DTSTAMP:20260423T130401
CREATED:20241206T195135Z
LAST-MODIFIED:20250908T075223Z
UID:6866-1758011400-1758031200@rusfrioppvekst.no
SUMMARY:FAGKONFERANSE I HAMMERFEST
DESCRIPTION:Velkommen til fagkonferanse om “Barn\, psykisk helse og ufrivillig skolefravær” ved Kirsten H. Resaland. \nResaland er barne- og ungdomspsykolog og har jobbet med ungdom på ulike arenaer i over tyve år.\nHun er også forfatter. I 2020 gav hun ut ungdomsboken “Helt Ærlig om hvordan vi henger sammen” med legespesialist Astrid Nylander Almaas. Og i 2024 gav hun ut “Snakk til meg!” – en bok til voksne med konkrete innspill til hva som skaper trygghet i samtaler med ungdom. \nLes mer og påmelding her!
URL:https://rusfrioppvekst.no/kalendar/fagkonferanse-i-hammerfest-2/
LOCATION:Scandic Hammerfest
ATTACH;FMTTYPE=image/jpeg:https://rusfrioppvekst.no/wp-content/uploads/2024/12/Kirsten-Resaland.jpg
END:VEVENT
BEGIN:VEVENT
DTSTART;TZID=Europe/Helsinki:20251028T180000
DTEND;TZID=Europe/Helsinki:20251028T203000
DTSTAMP:20260423T130401
CREATED:20251028T120952Z
LAST-MODIFIED:20251028T123706Z
UID:18535-1761674400-1761683400@rusfrioppvekst.no
SUMMARY:ÅPENT MØTE PÅ SKARNES: Hva skal til for å redusere rusbruken blant ungdom?
DESCRIPTION:Hva skal til for å redusere rusbruken blant ungdom? er tittelen i Inger Lise Hansens foredrag denne kvelden. Hansen er generalsekretær i paraplyorganisasjonen Actis.\nVel møtt! \nArrangementet er del av lagenes studiering. \n  \nArr: Rusfri Oppvekst Glåmdal i samarbeid med FMR Glåmdal og Edru Livsstil Glåmdal.
URL:https://rusfrioppvekst.no/kalendar/apent-mote-pa-skarnes-hva-skal-til-for-a-redusere-rusbruken-blant-ungdom/
LOCATION:Frivilligsentralen Skarnes\, Øgardsvegen 11\, Skarnes\, 2100
CATEGORIES:Lokallag,Studiering
ATTACH;FMTTYPE=image/jpeg:https://rusfrioppvekst.no/wp-content/uploads/2025/10/Actis_Inger-Lise-Hansen-scaled-e1761655016249.jpg
END:VEVENT
BEGIN:VEVENT
DTSTART;TZID=Europe/Helsinki:20251104T093000
DTEND;TZID=Europe/Helsinki:20251104T150000
DTSTAMP:20260423T130401
CREATED:20250916T071407Z
LAST-MODIFIED:20250916T071738Z
UID:16585-1762248600-1762268400@rusfrioppvekst.no
SUMMARY:RusPuls 2025-konferanse: 15 år og i klem mellom ulike tiltak
DESCRIPTION:Foto: Lisa Botterli Flostrand/Tidens Krav \nHva skjer med unge som ikke passer inn i systemene? De som har prøvd alt\, men fortsatt strever med rus og utenforskap\, hvor til slutt også tiltaksapparatet står rådløse? \n\n\nDenne konferansen setter fokus på ungdom som faller mellom flere stoler – i skjæringspunktet mellom skole\, barnevern\, helsevesen\, politi og kommunale tjenester. \n\nMålgruppe:\nAlle som jobber med unge og rus\, spesielt deg som ser utfordringene på nært hold i skole\, helsevesen\, politi\, barnevern eller kommunale tjenester. \nProgram\, foredragsholdere og påmelding her! \n 
URL:https://rusfrioppvekst.no/kalendar/ruspuls-2025-konferanse-15-ar-og-i-klem-mellom-ulike-tiltak/
LOCATION:Sentralen Oslo\, Oslo
CATEGORIES:Konferanse
ATTACH;FMTTYPE=image/jpeg:https://rusfrioppvekst.no/wp-content/uploads/2025/09/251104_Actis_RusPuls_Foto_Lisa-Botterli-Flostrand_Tidens-Krav.jpg
END:VEVENT
BEGIN:VEVENT
DTSTART;TZID=Europe/Helsinki:20251106T103000
DTEND;TZID=Europe/Helsinki:20251106T120000
DTSTAMP:20260423T130401
CREATED:20251002T100805Z
LAST-MODIFIED:20251002T101234Z
UID:17379-1762425000-1762430400@rusfrioppvekst.no
SUMMARY:STYREMØTE I RO TRONDHEIM OG OMEGN
DESCRIPTION:Styret i RO Trondheim og omegn skal ha styremøte.\nHvis medlemmer i laget har saker\, kan disse sendes på e-post til styreleder Marit Fosså i forkant av møtet.
URL:https://rusfrioppvekst.no/kalendar/styremote-i-ro-trondheim-og-omegn/
LOCATION:Evangeliesenteret i Trondheim
CATEGORIES:Lokallag
ATTACH;FMTTYPE=image/png:https://rusfrioppvekst.no/wp-content/uploads/2025/04/tegning_MOTE_meeting-gbd8939271_1280.png
END:VEVENT
BEGIN:VEVENT
DTSTART;VALUE=DATE:20251108
DTEND;VALUE=DATE:20251110
DTSTAMP:20260423T130401
CREATED:20250221T084312Z
LAST-MODIFIED:20250221T084312Z
UID:7963-1762560000-1762732799@rusfrioppvekst.no
SUMMARY:LANDSSTYREMØTE I BERGEN
DESCRIPTION:Landsstyret samles til fysisk styremøte i Bergen. \nEventuelle saker som lokallag e.a. ønsker at styret skal behandle\, meldes til daglig leder på e-post
URL:https://rusfrioppvekst.no/kalendar/landsstyremote-i-bergen-3/
LOCATION:Øvre Korskirkesmauet 2B\, Bergen
CATEGORIES:Landsstyremøte
ATTACH;FMTTYPE=image/jpeg:https://rusfrioppvekst.no/wp-content/uploads/2024/10/Styremote-scaled.jpg
END:VEVENT
BEGIN:VEVENT
DTSTART;TZID=Europe/Helsinki:20251120T083000
DTEND;TZID=Europe/Helsinki:20251120T143000
DTSTAMP:20260423T130401
CREATED:20250925T104837Z
LAST-MODIFIED:20251031T074241Z
UID:17040-1763627400-1763649000@rusfrioppvekst.no
SUMMARY:FAGKONFERANSE I FØRDE
DESCRIPTION:Torsdag\, 20.november kl. 08:30 – 14:30 inviterer vi til fagkonferanse\, “Barn som pårørende”.\nSted: Scandic Sunnfjord hotell & spa. \nGerd Helene Irgens er psykiatrisk sykepleier og jobber som seniorrådgiver og kst.seksjonsleder i avdeling for rusmedisin\, Helse Bergen. Hun har lang fartstid fra rusfeltet med klinisk arbeid rettet mot pasienter og pårørende. Barn som pårørende er et sentralt tema i hennes arbeid. \nSe plakaten her!
URL:https://rusfrioppvekst.no/kalendar/fagkonferanse-i-forde/
LOCATION:Scandic Sunnfjord hotel & spa\, Storehagen 2\, Førde
CATEGORIES:Fagkonferanse
ATTACH;FMTTYPE=image/jpeg:https://rusfrioppvekst.no/wp-content/uploads/2025/02/Gerd-Helene-Irgens_6-scaled-e1743507516114.jpg
END:VEVENT
BEGIN:VEVENT
DTSTART;TZID=Europe/Helsinki:20251124T180000
DTEND;TZID=Europe/Helsinki:20251124T193000
DTSTAMP:20260423T130401
CREATED:20251105T124930Z
LAST-MODIFIED:20251105T130036Z
UID:18565-1764007200-1764012600@rusfrioppvekst.no
SUMMARY:KULTURKVELD I ÅSANE: syng deg glad!
DESCRIPTION:VEL MØTT til en hyggelig kveld med allsang og solosang i god blanding i foajéen i Åsane kulturhus. \nBjørn Berentsen leder allsang sammen med pianist Jan Inge Wiig Andersen\, og innimellom allsangen glimrer de til med flere soloopptredener.\nDet er bare å glede seg! \nTa med deg en venn\, partner\, nabo eller andre som liker å synge! Sang sprer glede\, og vi lover en skikkelig glad-kveld! \nGratis entré! VEL MØTT! \nArr: Rusfri Oppvekst Bergen \nMeld deg gjerne på via QR-koden\, men hvis du ikke får det til er du hjertelig velkommen uansett! \n \n  \n 
URL:https://rusfrioppvekst.no/kalendar/kulturkveld-i-asane/
LOCATION:Åsane kulturhus\, Åsane senter 52\, Åsane
CATEGORIES:Kulturkveld,Lokallag
ATTACH;FMTTYPE=image/jpeg:https://rusfrioppvekst.no/wp-content/uploads/2025/11/invitasjon.jpg
END:VEVENT
BEGIN:VEVENT
DTSTART;TZID=Europe/Helsinki:20251128T083000
DTEND;TZID=Europe/Helsinki:20251128T143000
DTSTAMP:20260423T130401
CREATED:20251031T073238Z
LAST-MODIFIED:20251111T210949Z
UID:18556-1764318600-1764340200@rusfrioppvekst.no
SUMMARY:FAGKONFERANSE PÅ STORD
DESCRIPTION:Fredag\, 28.november kl. 08:30 – 14:30 inviterer vi til fagkonferanse\, “Barn som pårørende”.\nSted: HVL campus Stord. \nGerd Helene Irgens er psykiatrisk sykepleier og jobber som seniorrådgiver og kst.seksjonsleder i avdeling for rusmedisin\, Helse Bergen. Hun har lang fartstid fra rusfeltet med klinisk arbeid rettet mot pasienter og pårørende. Barn som pårørende er et sentralt tema i hennes arbeid. \nSe plakaten her!
URL:https://rusfrioppvekst.no/kalendar/fagkonferanse-pa-stord/
LOCATION:HVL campus Stord\, Stord
CATEGORIES:Fagkonferanse
ATTACH;FMTTYPE=image/jpeg:https://rusfrioppvekst.no/wp-content/uploads/2025/02/Gerd-Helene-Irgens_6-scaled-e1743507516114.jpg
END:VEVENT
BEGIN:VEVENT
DTSTART;TZID=Europe/Helsinki:20251128T180000
DTEND;TZID=Europe/Helsinki:20251128T210000
DTSTAMP:20260423T130401
CREATED:20251003T130951Z
LAST-MODIFIED:20251106T074403Z
UID:17439-1764352800-1764363600@rusfrioppvekst.no
SUMMARY:JULEBORD i lokallaget RO Oslo og omegn
DESCRIPTION:Velkommen til julebord i regi av Rusfri Oppvekst Oslo og omegn i samarbeid med lokale samarbeidslag. \nVi server en falafelvegetar-gryterett og kjøttgryterett som serveres med ris\, brød og salat. \nAlle gjester tar med seg noe til kaffe. \nPåmelding innen 24.11.:\nE-post til Shagufta Parveen eller på 93 44 42 60\nE-post til Magne Richardsen eller 92 89 57 37\nVennligst gi beskjed hvis diett og allergier! \n  \n 
URL:https://rusfrioppvekst.no/kalendar/ro-oslo-julebord/
LOCATION:Torggata 1\, Torggata 1\, Oslo
CATEGORIES:julebord,Kulturkveld
ATTACH;FMTTYPE=image/jpeg:https://rusfrioppvekst.no/wp-content/uploads/2025/10/251128_RO-Oslo_Julebord_Invitasjon.jpg
END:VEVENT
BEGIN:VEVENT
DTSTART;TZID=Europe/Helsinki:20251210T150000
DTEND;TZID=Europe/Helsinki:20251210T190000
DTSTAMP:20260423T130401
CREATED:20251028T123030Z
LAST-MODIFIED:20251118T093331Z
UID:18541-1765378800-1765393200@rusfrioppvekst.no
SUMMARY:JULEAVSLUTNING I RO TRONDHEIM
DESCRIPTION:Velkommen til juleavslutning i lokallaget. \nVi serverer julemat (som betales av den enkelte)\, samt kaffe og kake. \nDet blir lett underholdning. \nPåmelding ved å klikke her!\neller skann QR-koden!\n \nDersom det er vansker med bruk av skjemaet\, kan du kontakte kontoret.\nEller ring/send påmelding til lokallagets leder på tlf. 913 27 548.
URL:https://rusfrioppvekst.no/kalendar/juleavslutning-i-ro-trondheim/
LOCATION:Trondheim misjonskirke\, Arkitekt Christies gt. 1c\, Trondheim\, 7012
CATEGORIES:julebord,Lokallag
ATTACH;FMTTYPE=image/jpeg:https://rusfrioppvekst.no/wp-content/uploads/2024/11/Jul_Pixabay_christmas-tree-6870755_1280.jpg
END:VEVENT
END:VCALENDAR