BEGIN:VCALENDAR
VERSION:2.0
PRODID:-//Rusfri Oppvekst - ECPv6.15.20//NONSGML v1.0//EN
CALSCALE:GREGORIAN
METHOD:PUBLISH
X-WR-CALNAME:Rusfri Oppvekst
X-ORIGINAL-URL:https://rusfrioppvekst.no
X-WR-CALDESC:Events for Rusfri Oppvekst
REFRESH-INTERVAL;VALUE=DURATION:PT1H
X-Robots-Tag:noindex
X-PUBLISHED-TTL:PT1H
BEGIN:VTIMEZONE
TZID:Europe/Helsinki
BEGIN:DAYLIGHT
TZOFFSETFROM:+0200
TZOFFSETTO:+0300
TZNAME:EEST
DTSTART:20230326T010000
END:DAYLIGHT
BEGIN:STANDARD
TZOFFSETFROM:+0300
TZOFFSETTO:+0200
TZNAME:EET
DTSTART:20231029T010000
END:STANDARD
BEGIN:DAYLIGHT
TZOFFSETFROM:+0200
TZOFFSETTO:+0300
TZNAME:EEST
DTSTART:20240331T010000
END:DAYLIGHT
BEGIN:STANDARD
TZOFFSETFROM:+0300
TZOFFSETTO:+0200
TZNAME:EET
DTSTART:20241027T010000
END:STANDARD
BEGIN:DAYLIGHT
TZOFFSETFROM:+0200
TZOFFSETTO:+0300
TZNAME:EEST
DTSTART:20250330T010000
END:DAYLIGHT
BEGIN:STANDARD
TZOFFSETFROM:+0300
TZOFFSETTO:+0200
TZNAME:EET
DTSTART:20251026T010000
END:STANDARD
END:VTIMEZONE
BEGIN:VEVENT
DTSTART;TZID=Europe/Helsinki:20241001T091500
DTEND;TZID=Europe/Helsinki:20241001T131500
DTSTAMP:20260423T143653
CREATED:20241206T175333Z
LAST-MODIFIED:20241206T175333Z
UID:6823-1727774100-1727788500@rusfrioppvekst.no
SUMMARY:VÅG Å VÆRE-klassebesøk 1 på Manger barneskule
DESCRIPTION:Denne dagen får 7.klasse-elevene besøk av prosjektleder Marit Barene.
URL:https://rusfrioppvekst.no/kalendar/vag-a-vaere-klassebesok-1-pa-manger-barneskule/
LOCATION:Manger barneskule
CATEGORIES:Skolebesøk
ATTACH;FMTTYPE=image/jpeg:https://rusfrioppvekst.no/wp-content/uploads/2024/12/Vag-a-Vaere_Bilder.jpg
END:VEVENT
BEGIN:VEVENT
DTSTART;VALUE=DATE:20241003
DTEND;VALUE=DATE:20241004
DTSTAMP:20260423T143653
CREATED:20240925T092331Z
LAST-MODIFIED:20240925T092357Z
UID:6143-1727913600-1727999999@rusfrioppvekst.no
SUMMARY:RO TRONDHEIM OG OMEGN: VERVESTAND
DESCRIPTION:Lokallaget arrangerer stand på Stjørdal torsdag\, 3. Oktober. Ønsker du å delta? Da kan du ta Kontakt med Marit Fosså på tlf. 91327548.
URL:https://rusfrioppvekst.no/kalendar/ro-trondheim-og-omegn-vervestand/
CATEGORIES:Vervestand
ATTACH;FMTTYPE=image/png:https://rusfrioppvekst.no/wp-content/uploads/2024/02/stand_Pixabay_flower-booth-2382223_1280-e1709197511426.png
END:VEVENT
BEGIN:VEVENT
DTSTART;TZID=Europe/Helsinki:20241003T090000
DTEND;TZID=Europe/Helsinki:20241003T130000
DTSTAMP:20260423T143653
CREATED:20241206T175454Z
LAST-MODIFIED:20241206T175454Z
UID:6826-1727946000-1727960400@rusfrioppvekst.no
SUMMARY:VÅG Å VÆRE-klassebesøk 1 på Avaldsnes skole
DESCRIPTION:Denne dagen får 7.klasse-elevene besøk av prosjektleder Marit Barene.
URL:https://rusfrioppvekst.no/kalendar/vag-a-vaere-klassebesok-1-pa-avaldsnes-skole/
LOCATION:Avaldsnes skole
CATEGORIES:Skolebesøk
ATTACH;FMTTYPE=image/jpeg:https://rusfrioppvekst.no/wp-content/uploads/2024/12/Vag-a-Vaere_Bilder.jpg
END:VEVENT
BEGIN:VEVENT
DTSTART;TZID=Europe/Helsinki:20241015T090000
DTEND;TZID=Europe/Helsinki:20241015T103000
DTSTAMP:20260423T143653
CREATED:20241206T175139Z
LAST-MODIFIED:20241206T175139Z
UID:6819-1728982800-1728988200@rusfrioppvekst.no
SUMMARY:VÅG Å VÆRE-klassebesøk 1 på Grasdal skule
DESCRIPTION:Denne dagen får 7.klasse-elevene besøk av prosjektleder Marit Barene.
URL:https://rusfrioppvekst.no/kalendar/vag-a-vaere-klassebesok-1-pa-grasdal-skule/
LOCATION:Grasdal skule
CATEGORIES:Skolebesøk
ATTACH;FMTTYPE=image/jpeg:https://rusfrioppvekst.no/wp-content/uploads/2024/12/Vag-a-Vaere_Bilder.jpg
END:VEVENT
BEGIN:VEVENT
DTSTART;TZID=Europe/Helsinki:20241015T130000
DTEND;TZID=Europe/Helsinki:20241015T170000
DTSTAMP:20260423T143653
CREATED:20240729T111937Z
LAST-MODIFIED:20240925T083106Z
UID:5905-1728997200-1729011600@rusfrioppvekst.no
SUMMARY:FAGKONFERANSE GRASDAL SKULE
DESCRIPTION:Fagkonferanse på Grasdal skule med Heidi Wittrup Djup.
URL:https://rusfrioppvekst.no/kalendar/fagkonferanse-grasdal-skule/
CATEGORIES:Fagkonferanse
ATTACH;FMTTYPE=image/jpeg:https://rusfrioppvekst.no/wp-content/uploads/2023/04/iStock-1131531362-scaled-e1681765309286.jpg
END:VEVENT
BEGIN:VEVENT
DTSTART;TZID=Europe/Helsinki:20241016T133000
DTEND;TZID=Europe/Helsinki:20241016T173000
DTSTAMP:20260423T143653
CREATED:20240729T112347Z
LAST-MODIFIED:20240925T083040Z
UID:5910-1729085400-1729099800@rusfrioppvekst.no
SUMMARY:FAGKONFERANSE MANGER BARNESKULE
DESCRIPTION:Fagkonferanse på Manger barneskule med Heidi Wittrup Djup.
URL:https://rusfrioppvekst.no/kalendar/fagkonferanse-manger-barneskule/
CATEGORIES:Fagkonferanse
ATTACH;FMTTYPE=image/jpeg:https://rusfrioppvekst.no/wp-content/uploads/2023/04/iStock-1131531362-scaled-e1681765309286.jpg
END:VEVENT
BEGIN:VEVENT
DTSTART;VALUE=DATE:20241024
DTEND;VALUE=DATE:20241025
DTSTAMP:20260423T143653
CREATED:20240925T092108Z
LAST-MODIFIED:20240925T102412Z
UID:6141-1729728000-1729814399@rusfrioppvekst.no
SUMMARY:RO TRONDHEIM OG OMEGN: VERVESTAND
DESCRIPTION:Lokallaget arrangerer stand på Orkanger torsdag\, 24. Oktober. Ønsker du å delta? Da kan du ta Kontakt med John Peder Nordtømme på tlf. 41442765.
URL:https://rusfrioppvekst.no/kalendar/ro-trondheim-og-omegn-stand/
CATEGORIES:Vervestand
ATTACH;FMTTYPE=image/png:https://rusfrioppvekst.no/wp-content/uploads/2024/02/stand_Pixabay_flower-booth-2382223_1280-e1709197511426.png
END:VEVENT
BEGIN:VEVENT
DTSTART;TZID=Europe/Helsinki:20241024T180000
DTEND;TZID=Europe/Helsinki:20241024T193000
DTSTAMP:20260423T143653
CREATED:20240923T083647Z
LAST-MODIFIED:20240923T083647Z
UID:6119-1729792800-1729798200@rusfrioppvekst.no
SUMMARY:KAFÉTREFF I ÅSANE
DESCRIPTION:Rusfri Oppvekst Bergen inviterer til KAFÉTREFF på Jordbærpikene på Horisont i Åsane.\nBli med og ta en uformell prat med andre medlemmer i laget. Vel møtt torsdag\, 24.oktober kl.18:00!
URL:https://rusfrioppvekst.no/kalendar/kafetreff-i-asane-3/
LOCATION:Jordbærpikene Horisont\, Myrdalsvegen 2\, Åsane\, Bergen
CATEGORIES:Kafétreff,Lokallag
ATTACH;FMTTYPE=image/jpeg:https://rusfrioppvekst.no/wp-content/uploads/2024/09/kaffekopp_Pixabay.jpg
END:VEVENT
BEGIN:VEVENT
DTSTART;TZID=Europe/Helsinki:20241025T114500
DTEND;TZID=Europe/Helsinki:20241025T130000
DTSTAMP:20260423T143653
CREATED:20241024T172318Z
LAST-MODIFIED:20241024T173011Z
UID:6451-1729856700-1729861200@rusfrioppvekst.no
SUMMARY:DIGITAL SENDING: FRAMLEGGING AV FOREBYGGINGS- OG BEHANDLINGSREFORMEN FOR RUSFELTET
DESCRIPTION:Fredag\, 25. oktober kl.11.45 legger helse- og omsorgsminister Jan Christian Vestre og justis- og beredskapsminister Emilie Enger Mehl frem forebyggings- og behandlingsreformen for rusfeltet. Se sendingen her. 
URL:https://rusfrioppvekst.no/kalendar/digital-framlegging-av-forebygging-og-behandlingsreformen-for-rusfeltet/
CATEGORIES:Konferanse
ATTACH;FMTTYPE=image/jpeg:https://rusfrioppvekst.no/wp-content/uploads/2024/10/kamera_PIXABAY_camera-1598620_1280.jpg
END:VEVENT
END:VCALENDAR