BEGIN:VCALENDAR
VERSION:2.0
PRODID:-//Rusfri Oppvekst - ECPv6.15.20//NONSGML v1.0//EN
CALSCALE:GREGORIAN
METHOD:PUBLISH
X-ORIGINAL-URL:https://rusfrioppvekst.no
X-WR-CALDESC:Events for Rusfri Oppvekst
REFRESH-INTERVAL;VALUE=DURATION:PT1H
X-Robots-Tag:noindex
X-PUBLISHED-TTL:PT1H
BEGIN:VTIMEZONE
TZID:Europe/Helsinki
BEGIN:DAYLIGHT
TZOFFSETFROM:+0200
TZOFFSETTO:+0300
TZNAME:EEST
DTSTART:20240331T010000
END:DAYLIGHT
BEGIN:STANDARD
TZOFFSETFROM:+0300
TZOFFSETTO:+0200
TZNAME:EET
DTSTART:20241027T010000
END:STANDARD
BEGIN:DAYLIGHT
TZOFFSETFROM:+0200
TZOFFSETTO:+0300
TZNAME:EEST
DTSTART:20250330T010000
END:DAYLIGHT
BEGIN:STANDARD
TZOFFSETFROM:+0300
TZOFFSETTO:+0200
TZNAME:EET
DTSTART:20251026T010000
END:STANDARD
BEGIN:DAYLIGHT
TZOFFSETFROM:+0200
TZOFFSETTO:+0300
TZNAME:EEST
DTSTART:20260329T010000
END:DAYLIGHT
BEGIN:STANDARD
TZOFFSETFROM:+0300
TZOFFSETTO:+0200
TZNAME:EET
DTSTART:20261025T010000
END:STANDARD
END:VTIMEZONE
BEGIN:VEVENT
DTSTART;TZID=Europe/Helsinki:20251218T093000
DTEND;TZID=Europe/Helsinki:20251218T123000
DTSTAMP:20260420T221610
CREATED:20251110T111315Z
LAST-MODIFIED:20251211T095253Z
UID:18596-1766050200-1766061000@rusfrioppvekst.no
SUMMARY:SKOLEBESØK: LEKNES SKULE
DESCRIPTION:Daglig leder og prosjektleder Marit Barene skal på skolebesøk på 7.trinnet på Leknes skule. \nFilmfremvisning av kortfilmen Hysj. Spilling av brettspillet SNX. Foredrag og pizza.
URL:https://rusfrioppvekst.no/kalendar/hysj-og-snx-pa-leknes-skule/
LOCATION:Leknes skule\, Leknes\, Alver
CATEGORIES:Skolebesøk
ATTACH;FMTTYPE=image/jpeg:https://rusfrioppvekst.no/wp-content/uploads/2025/02/SNX-255-scaled.jpg
END:VEVENT
END:VCALENDAR