BEGIN:VCALENDAR
VERSION:2.0
PRODID:-//Rusfri Oppvekst - ECPv6.15.20//NONSGML v1.0//EN
CALSCALE:GREGORIAN
METHOD:PUBLISH
X-ORIGINAL-URL:https://rusfrioppvekst.no
X-WR-CALDESC:Events for Rusfri Oppvekst
REFRESH-INTERVAL;VALUE=DURATION:PT1H
X-Robots-Tag:noindex
X-PUBLISHED-TTL:PT1H
BEGIN:VTIMEZONE
TZID:Europe/Helsinki
BEGIN:DAYLIGHT
TZOFFSETFROM:+0200
TZOFFSETTO:+0300
TZNAME:EEST
DTSTART:20250330T010000
END:DAYLIGHT
BEGIN:STANDARD
TZOFFSETFROM:+0300
TZOFFSETTO:+0200
TZNAME:EET
DTSTART:20251026T010000
END:STANDARD
BEGIN:DAYLIGHT
TZOFFSETFROM:+0200
TZOFFSETTO:+0300
TZNAME:EEST
DTSTART:20260329T010000
END:DAYLIGHT
BEGIN:STANDARD
TZOFFSETFROM:+0300
TZOFFSETTO:+0200
TZNAME:EET
DTSTART:20261025T010000
END:STANDARD
BEGIN:DAYLIGHT
TZOFFSETFROM:+0200
TZOFFSETTO:+0300
TZNAME:EEST
DTSTART:20270328T010000
END:DAYLIGHT
BEGIN:STANDARD
TZOFFSETFROM:+0300
TZOFFSETTO:+0200
TZNAME:EET
DTSTART:20271031T010000
END:STANDARD
END:VTIMEZONE
BEGIN:VEVENT
DTSTART;TZID=Europe/Helsinki:20260115T120000
DTEND;TZID=Europe/Helsinki:20260115T140000
DTSTAMP:20260420T191230
CREATED:20260116T094659Z
LAST-MODIFIED:20260116T094659Z
UID:18702-1768478400-1768485600@rusfrioppvekst.no
SUMMARY:SAMARBEIDSMØTE MED LIONS CLUB ASKØY
DESCRIPTION:Denne dagen har vi vårt første samarbeidsmøte med Lions Club Askøy hvor vi skal begynne planlegging av et fellesprosjekt rettet mot barn\, ungdom og foreldre i Askøy kommune.
URL:https://rusfrioppvekst.no/kalendar/samarbeidsmote-med-lions-club-askoy/
LOCATION:Sjoddien\, Strusshamn
CATEGORIES:Samarbeidsmøte
ATTACH;FMTTYPE=image/jpeg:https://rusfrioppvekst.no/wp-content/uploads/2026/01/Lions.jpg
END:VEVENT
END:VCALENDAR