BEGIN:VCALENDAR
VERSION:2.0
PRODID:-//Rusfri Oppvekst - ECPv6.15.20//NONSGML v1.0//EN
CALSCALE:GREGORIAN
METHOD:PUBLISH
X-ORIGINAL-URL:https://rusfrioppvekst.no
X-WR-CALDESC:Events for Rusfri Oppvekst
REFRESH-INTERVAL;VALUE=DURATION:PT1H
X-Robots-Tag:noindex
X-PUBLISHED-TTL:PT1H
BEGIN:VTIMEZONE
TZID:Europe/Helsinki
BEGIN:DAYLIGHT
TZOFFSETFROM:+0200
TZOFFSETTO:+0300
TZNAME:EEST
DTSTART:20250330T010000
END:DAYLIGHT
BEGIN:STANDARD
TZOFFSETFROM:+0300
TZOFFSETTO:+0200
TZNAME:EET
DTSTART:20251026T010000
END:STANDARD
BEGIN:DAYLIGHT
TZOFFSETFROM:+0200
TZOFFSETTO:+0300
TZNAME:EEST
DTSTART:20260329T010000
END:DAYLIGHT
BEGIN:STANDARD
TZOFFSETFROM:+0300
TZOFFSETTO:+0200
TZNAME:EET
DTSTART:20261025T010000
END:STANDARD
BEGIN:DAYLIGHT
TZOFFSETFROM:+0200
TZOFFSETTO:+0300
TZNAME:EEST
DTSTART:20270328T010000
END:DAYLIGHT
BEGIN:STANDARD
TZOFFSETFROM:+0300
TZOFFSETTO:+0200
TZNAME:EET
DTSTART:20271031T010000
END:STANDARD
END:VTIMEZONE
BEGIN:VEVENT
DTSTART;TZID=Europe/Helsinki:20260212T180000
DTEND;TZID=Europe/Helsinki:20260212T193000
DTSTAMP:20260420T221452
CREATED:20251128T093001Z
LAST-MODIFIED:20251128T093001Z
UID:18637-1770919200-1770924600@rusfrioppvekst.no
SUMMARY:DIGITALT HYSJ-SEMINAR
DESCRIPTION:Fagforbundet Nordland\, Kirke\, Kultur og oppvekst inviterer denne kvelden sine medlemmer til et webinar om temaet Hysj; barn som pårørende. \nGerd Helene Irgens vil holde webinar for medlemmer av Fagforbundet Nordland\, Kirke\, Kultur og oppvekst .\nIrgens er psykiatrisk sykepleier og jobber som seniorrådgiver og kst.seksjonsleder i avdeling for rusmedisin\, Helse Bergen. Hun har lang fartstid fra rusfeltet med klinisk arbeid rettet mot pasienter og pårørende. Barn som pårørende er et sentralt tema i hennes arbeid. \nLenke sendes ut til medlemmene i forkant av webinaret.
URL:https://rusfrioppvekst.no/kalendar/digitalt-hysj-seminar/
LOCATION:Teams
CATEGORIES:Webinar
ATTACH;FMTTYPE=image/jpeg:https://rusfrioppvekst.no/wp-content/uploads/2024/12/Gerd-Helene-Irgens_5-e1733512346933.jpg
END:VEVENT
END:VCALENDAR